BEGIN:VCALENDAR
VERSION:2.0
PRODID:-//Bedlam BBQ - ECPv6.15.20//NONSGML v1.0//EN
CALSCALE:GREGORIAN
METHOD:PUBLISH
X-WR-CALNAME:Bedlam BBQ
X-ORIGINAL-URL:https://bedlambarbq.com
X-WR-CALDESC:Events for Bedlam BBQ
REFRESH-INTERVAL;VALUE=DURATION:PT1H
X-Robots-Tag:noindex
X-PUBLISHED-TTL:PT1H
BEGIN:VTIMEZONE
TZID:UTC
BEGIN:STANDARD
TZOFFSETFROM:+0000
TZOFFSETTO:+0000
TZNAME:UTC
DTSTART:20180101T000000
END:STANDARD
END:VTIMEZONE
BEGIN:VEVENT
DTSTART;TZID=UTC:20191102T190000
DTEND;TZID=UTC:20191102T220000
DTSTAMP:20260423T092558
CREATED:20190905T234413Z
LAST-MODIFIED:20191029T072957Z
UID:2835-1572721200-1572732000@bedlambarbq.com
SUMMARY:BLLB Bedlam Live Local Bands MOUNTAIN SMOKE
DESCRIPTION:CALL AND RESERVE A TABLE TO SEE MOUNTAIN SMOKE LIVE AT BEDLAM BAR-B-Q out on the patio.  The weather is going to be around 60 degrees so wear a jacket and cozy up by the heaters and fire to enjoy a blue grass band like no other.  Best BAR-B-Q in OKC plus a full bar and homemade desserts!
URL:https://bedlambarbq.com/event/bllb-bedlam-live-local-bands-4/
END:VEVENT
END:VCALENDAR