BEGIN:VCALENDAR
VERSION:2.0
PRODID:-//Bedlam BBQ - ECPv6.15.20//NONSGML v1.0//EN
CALSCALE:GREGORIAN
METHOD:PUBLISH
X-WR-CALNAME:Bedlam BBQ
X-ORIGINAL-URL:https://bedlambarbq.com
X-WR-CALDESC:Events for Bedlam BBQ
REFRESH-INTERVAL;VALUE=DURATION:PT1H
X-Robots-Tag:noindex
X-PUBLISHED-TTL:PT1H
BEGIN:VTIMEZONE
TZID:UTC
BEGIN:STANDARD
TZOFFSETFROM:+0000
TZOFFSETTO:+0000
TZNAME:UTC
DTSTART:20180101T000000
END:STANDARD
END:VTIMEZONE
BEGIN:VEVENT
DTSTART;TZID=UTC:20191123T190000
DTEND;TZID=UTC:20191123T220000
DTSTAMP:20260423T092553
CREATED:20190905T234619Z
LAST-MODIFIED:20190905T234619Z
UID:2841-1574535600-1574546400@bedlambarbq.com
SUMMARY:BLLB Bedlam Live Local Bands AARON NEWMAN
DESCRIPTION:
URL:https://bedlambarbq.com/event/bllb-bedlam-live-local-bands-aaron-newman-2/
END:VEVENT
END:VCALENDAR