BEGIN:VCALENDAR
VERSION:2.0
PRODID:-//Bedlam BBQ - ECPv6.15.20//NONSGML v1.0//EN
CALSCALE:GREGORIAN
METHOD:PUBLISH
X-ORIGINAL-URL:https://bedlambarbq.com
X-WR-CALDESC:Events for Bedlam BBQ
REFRESH-INTERVAL;VALUE=DURATION:PT1H
X-Robots-Tag:noindex
X-PUBLISHED-TTL:PT1H
BEGIN:VTIMEZONE
TZID:UTC
BEGIN:STANDARD
TZOFFSETFROM:+0000
TZOFFSETTO:+0000
TZNAME:UTC
DTSTART:20190101T000000
END:STANDARD
END:VTIMEZONE
BEGIN:VEVENT
DTSTART;TZID=UTC:20200905T190000
DTEND;TZID=UTC:20200905T220000
DTSTAMP:20260422T163229
CREATED:20200825T041142Z
LAST-MODIFIED:20200825T041217Z
UID:4030-1599332400-1599343200@bedlambarbq.com
SUMMARY:BLLB-Bedlam Live Local Bands CUTTER ELLIOTT
DESCRIPTION:
URL:https://bedlambarbq.com/event/bllb-bedlam-live-local-bands-cutter-elliott-3/
END:VEVENT
END:VCALENDAR