BEGIN:VCALENDAR
VERSION:2.0
PRODID:-//Bedlam BBQ - ECPv6.15.20//NONSGML v1.0//EN
CALSCALE:GREGORIAN
METHOD:PUBLISH
X-WR-CALNAME:Bedlam BBQ
X-ORIGINAL-URL:https://bedlambarbq.com
X-WR-CALDESC:Events for Bedlam BBQ
REFRESH-INTERVAL;VALUE=DURATION:PT1H
X-Robots-Tag:noindex
X-PUBLISHED-TTL:PT1H
BEGIN:VTIMEZONE
TZID:UTC
BEGIN:STANDARD
TZOFFSETFROM:+0000
TZOFFSETTO:+0000
TZNAME:UTC
DTSTART:20190101T000000
END:STANDARD
END:VTIMEZONE
BEGIN:VEVENT
DTSTART;TZID=UTC:20201017T190000
DTEND;TZID=UTC:20201017T220000
DTSTAMP:20260422T152002
CREATED:20200827T000139Z
LAST-MODIFIED:20200827T000139Z
UID:4037-1602961200-1602972000@bedlambarbq.com
SUMMARY:Brantley Cowden BLLB Bedlam Live  Local Bands
DESCRIPTION:
URL:https://bedlambarbq.com/event/brantley-cowden-bllb-bedlam-live-local-bands/
END:VEVENT
END:VCALENDAR