BEGIN:VCALENDAR
VERSION:2.0
PRODID:-//Bedlam BBQ - ECPv6.15.20//NONSGML v1.0//EN
CALSCALE:GREGORIAN
METHOD:PUBLISH
X-WR-CALNAME:Bedlam BBQ
X-ORIGINAL-URL:https://bedlambarbq.com
X-WR-CALDESC:Events for Bedlam BBQ
REFRESH-INTERVAL;VALUE=DURATION:PT1H
X-Robots-Tag:noindex
X-PUBLISHED-TTL:PT1H
BEGIN:VTIMEZONE
TZID:UTC
BEGIN:STANDARD
TZOFFSETFROM:+0000
TZOFFSETTO:+0000
TZNAME:UTC
DTSTART:20210101T000000
END:STANDARD
END:VTIMEZONE
BEGIN:VEVENT
DTSTART;TZID=UTC:20220409T190000
DTEND;TZID=UTC:20220409T220000
DTSTAMP:20260421T115018
CREATED:20220312T032204Z
LAST-MODIFIED:20220312T032204Z
UID:7103-1649530800-1649541600@bedlambarbq.com
SUMMARY:Unlikely Blues Band #bedlamlivelocalbands
DESCRIPTION:
URL:https://bedlambarbq.com/event/unlikely-blues-band-bedlamlivelocalbands-4/
CATEGORIES:Bedlam Live Local Bands 7-10p.m.
END:VEVENT
END:VCALENDAR