BEGIN:VCALENDAR
VERSION:2.0
PRODID:-//Bedlam BBQ - ECPv6.15.20//NONSGML v1.0//EN
CALSCALE:GREGORIAN
METHOD:PUBLISH
X-ORIGINAL-URL:https://bedlambarbq.com
X-WR-CALDESC:Events for Bedlam BBQ
REFRESH-INTERVAL;VALUE=DURATION:PT1H
X-Robots-Tag:noindex
X-PUBLISHED-TTL:PT1H
BEGIN:VTIMEZONE
TZID:UTC
BEGIN:STANDARD
TZOFFSETFROM:+0000
TZOFFSETTO:+0000
TZNAME:UTC
DTSTART:20210101T000000
END:STANDARD
END:VTIMEZONE
BEGIN:VEVENT
DTSTART;TZID=UTC:20220416T190000
DTEND;TZID=UTC:20220416T220000
DTSTAMP:20260421T115013
CREATED:20220312T032428Z
LAST-MODIFIED:20220312T032446Z
UID:7105-1650135600-1650146400@bedlambarbq.com
SUMMARY:Hank Garrett #bedlamlivelocalbands
DESCRIPTION:
URL:https://bedlambarbq.com/event/hank-garrett-bedlamlivelocalbands/
LOCATION:Bedlam BAR-B-Q\, 610 NE 50th Street\, Oklahoma City\, OK\, 73105
CATEGORIES:Bedlam Live Local Bands 7-10p.m.
END:VEVENT
END:VCALENDAR