BEGIN:VCALENDAR
VERSION:2.0
PRODID:-//Bedlam BBQ - ECPv6.15.20//NONSGML v1.0//EN
CALSCALE:GREGORIAN
METHOD:PUBLISH
X-WR-CALNAME:Bedlam BBQ
X-ORIGINAL-URL:https://bedlambarbq.com
X-WR-CALDESC:Events for Bedlam BBQ
REFRESH-INTERVAL;VALUE=DURATION:PT1H
X-Robots-Tag:noindex
X-PUBLISHED-TTL:PT1H
BEGIN:VTIMEZONE
TZID:UTC
BEGIN:STANDARD
TZOFFSETFROM:+0000
TZOFFSETTO:+0000
TZNAME:UTC
DTSTART:20210101T000000
END:STANDARD
END:VTIMEZONE
BEGIN:VEVENT
DTSTART;TZID=UTC:20221231T190000
DTEND;TZID=UTC:20221231T223000
DTSTAMP:20260421T053032
CREATED:20221102T223353Z
LAST-MODIFIED:20221102T223353Z
UID:8463-1672513200-1672525800@bedlambarbq.com
SUMMARY:NEW YEARS CELEBRATION#bedlalmlivelocalbands
DESCRIPTION:
URL:https://bedlambarbq.com/event/new-years-celebrationbedlalmlivelocalbands/
END:VEVENT
END:VCALENDAR