BEGIN:VCALENDAR
VERSION:2.0
PRODID:-//Bedlam BBQ - ECPv6.15.20//NONSGML v1.0//EN
CALSCALE:GREGORIAN
METHOD:PUBLISH
X-ORIGINAL-URL:https://bedlambarbq.com
X-WR-CALDESC:Events for Bedlam BBQ
REFRESH-INTERVAL;VALUE=DURATION:PT1H
X-Robots-Tag:noindex
X-PUBLISHED-TTL:PT1H
BEGIN:VTIMEZONE
TZID:America/New_York
BEGIN:DAYLIGHT
TZOFFSETFROM:-0500
TZOFFSETTO:-0400
TZNAME:EDT
DTSTART:20240310T070000
END:DAYLIGHT
BEGIN:STANDARD
TZOFFSETFROM:-0400
TZOFFSETTO:-0500
TZNAME:EST
DTSTART:20241103T060000
END:STANDARD
BEGIN:DAYLIGHT
TZOFFSETFROM:-0500
TZOFFSETTO:-0400
TZNAME:EDT
DTSTART:20250309T070000
END:DAYLIGHT
BEGIN:STANDARD
TZOFFSETFROM:-0400
TZOFFSETTO:-0500
TZNAME:EST
DTSTART:20251102T060000
END:STANDARD
BEGIN:DAYLIGHT
TZOFFSETFROM:-0500
TZOFFSETTO:-0400
TZNAME:EDT
DTSTART:20260308T070000
END:DAYLIGHT
BEGIN:STANDARD
TZOFFSETFROM:-0400
TZOFFSETTO:-0500
TZNAME:EST
DTSTART:20261101T060000
END:STANDARD
END:VTIMEZONE
BEGIN:VEVENT
DTSTART;TZID=America/New_York:20250213T140000
DTEND;TZID=America/New_York:20250215T220000
DTSTAMP:20260419T141226
CREATED:20250213T211154Z
LAST-MODIFIED:20250213T211336Z
UID:8943-1739455200-1739656800@bedlambarbq.com
SUMMARY:PRIME RIB SPECIAL! Happy Valentine's Day!
DESCRIPTION:
URL:https://bedlambarbq.com/event/prime-rib-special-happy-valentines-day/
END:VEVENT
BEGIN:VEVENT
DTSTART;TZID=America/New_York:20250215T170000
DTEND;TZID=America/New_York:20250215T220000
DTSTAMP:20260419T141226
CREATED:20250207T014051Z
LAST-MODIFIED:20250207T020218Z
UID:8930-1739638800-1739656800@bedlambarbq.com
SUMMARY:Valentine's Day Dinner
DESCRIPTION:Call now to reserve your prime rib dinner!
URL:https://bedlambarbq.com/event/valentines-day-dinner-3/
END:VEVENT
BEGIN:VEVENT
DTSTART;TZID=America/New_York:20250215T190000
DTEND;TZID=America/New_York:20250215T220000
DTSTAMP:20260419T141226
CREATED:20250118T214503Z
LAST-MODIFIED:20250118T214503Z
UID:8905-1739646000-1739656800@bedlambarbq.com
SUMMARY:ROCKY KANAGA
DESCRIPTION:
URL:https://bedlambarbq.com/event/rocky-kanaga-2/
END:VEVENT
END:VCALENDAR