BEGIN:VCALENDAR
VERSION:2.0
PRODID:-//Bedlam BBQ - ECPv6.15.20//NONSGML v1.0//EN
CALSCALE:GREGORIAN
METHOD:PUBLISH
X-WR-CALNAME:Bedlam BBQ
X-ORIGINAL-URL:https://bedlambarbq.com
X-WR-CALDESC:Events for Bedlam BBQ
REFRESH-INTERVAL;VALUE=DURATION:PT1H
X-Robots-Tag:noindex
X-PUBLISHED-TTL:PT1H
BEGIN:VTIMEZONE
TZID:America/New_York
BEGIN:DAYLIGHT
TZOFFSETFROM:-0500
TZOFFSETTO:-0400
TZNAME:EDT
DTSTART:20220313T070000
END:DAYLIGHT
BEGIN:STANDARD
TZOFFSETFROM:-0400
TZOFFSETTO:-0500
TZNAME:EST
DTSTART:20221106T060000
END:STANDARD
BEGIN:DAYLIGHT
TZOFFSETFROM:-0500
TZOFFSETTO:-0400
TZNAME:EDT
DTSTART:20230312T070000
END:DAYLIGHT
BEGIN:STANDARD
TZOFFSETFROM:-0400
TZOFFSETTO:-0500
TZNAME:EST
DTSTART:20231105T060000
END:STANDARD
BEGIN:DAYLIGHT
TZOFFSETFROM:-0500
TZOFFSETTO:-0400
TZNAME:EDT
DTSTART:20240310T070000
END:DAYLIGHT
BEGIN:STANDARD
TZOFFSETFROM:-0400
TZOFFSETTO:-0500
TZNAME:EST
DTSTART:20241103T060000
END:STANDARD
END:VTIMEZONE
BEGIN:VEVENT
DTSTART;TZID=America/New_York:20230415T190000
DTEND;TZID=America/New_York:20230415T220000
DTSTAMP:20260423T220101
CREATED:20230127T172336Z
LAST-MODIFIED:20230127T172824Z
UID:8510-1681585200-1681596000@bedlambarbq.com
SUMMARY:Bedlam Live Local Bands
DESCRIPTION:
URL:https://bedlambarbq.com/event/bedlam-live-local-bands-12/
CATEGORIES:Bedlam Live Local Bands 7-10p.m.
END:VEVENT
BEGIN:VEVENT
DTSTART;TZID=America/New_York:20230415T190000
DTEND;TZID=America/New_York:20230415T220000
DTSTAMP:20260423T220101
CREATED:20230127T172408Z
LAST-MODIFIED:20230127T172408Z
UID:8512-1681585200-1681596000@bedlambarbq.com
SUMMARY:Bedlam Live Local Bands
DESCRIPTION:
URL:https://bedlambarbq.com/event/bedlam-live-local-bands-17/
CATEGORIES:Bedlam Live Local Bands 7-10p.m.
END:VEVENT
BEGIN:VEVENT
DTSTART;TZID=America/New_York:20230422T190000
DTEND;TZID=America/New_York:20230422T220000
DTSTAMP:20260423T220101
CREATED:20230127T172541Z
LAST-MODIFIED:20230127T172853Z
UID:8516-1682190000-1682200800@bedlambarbq.com
SUMMARY:Bedlam Live Local Bands
DESCRIPTION:
URL:https://bedlambarbq.com/event/bedlam-live-local-bands-19/
CATEGORIES:Bedlam Live Local Bands 7-10p.m.
END:VEVENT
BEGIN:VEVENT
DTSTART;TZID=America/New_York:20230429T070000
DTEND;TZID=America/New_York:20230429T220000
DTSTAMP:20260423T220101
CREATED:20230127T172639Z
LAST-MODIFIED:20230127T172639Z
UID:8518-1682751600-1682805600@bedlambarbq.com
SUMMARY:Bedlam Live Local Bands
DESCRIPTION:
URL:https://bedlambarbq.com/event/bedlam-live-local-bands-20/
CATEGORIES:Bedlam Live Local Bands 7-10p.m.
END:VEVENT
BEGIN:VEVENT
DTSTART;TZID=America/New_York:20230506T190000
DTEND;TZID=America/New_York:20230506T220000
DTSTAMP:20260423T220101
CREATED:20230127T172940Z
LAST-MODIFIED:20230127T173203Z
UID:8520-1683399600-1683410400@bedlambarbq.com
SUMMARY:BOYZ NIGHT OUT
DESCRIPTION:
URL:https://bedlambarbq.com/event/boyz-night-out-2/
CATEGORIES:Bedlam Live Local Bands 7-10p.m.
END:VEVENT
BEGIN:VEVENT
DTSTART;TZID=America/New_York:20230513T190000
DTEND;TZID=America/New_York:20230513T220000
DTSTAMP:20260423T220101
CREATED:20230127T173027Z
LAST-MODIFIED:20230127T173027Z
UID:8522-1684004400-1684015200@bedlambarbq.com
SUMMARY:JANE MAYS AND THE MINNIE FUNK BAND
DESCRIPTION:
URL:https://bedlambarbq.com/event/jane-mays-and-the-minnie-funk-band-2/
CATEGORIES:Bedlam Live Local Bands 7-10p.m.
END:VEVENT
BEGIN:VEVENT
DTSTART;TZID=America/New_York:20230520T190000
DTEND;TZID=America/New_York:20230520T220000
DTSTAMP:20260423T220101
CREATED:20230127T173109Z
LAST-MODIFIED:20230127T173109Z
UID:8524-1684609200-1684620000@bedlambarbq.com
SUMMARY:Bedlam Live Local Bands
DESCRIPTION:
URL:https://bedlambarbq.com/event/bedlam-live-local-bands-18/
CATEGORIES:Bedlam Live Local Bands 7-10p.m.
END:VEVENT
BEGIN:VEVENT
DTSTART;TZID=America/New_York:20230526T190000
DTEND;TZID=America/New_York:20230526T220000
DTSTAMP:20260423T220101
CREATED:20230527T040802Z
LAST-MODIFIED:20230527T040802Z
UID:8576-1685127600-1685138400@bedlambarbq.com
SUMMARY:Bedlam Live Local Bands
DESCRIPTION:
URL:https://bedlambarbq.com/event/bedlam-live-local-bands-23/
CATEGORIES:Bedlam Live Local Bands 7-10p.m.
END:VEVENT
BEGIN:VEVENT
DTSTART;TZID=America/New_York:20230527T190000
DTEND;TZID=America/New_York:20230527T220000
DTSTAMP:20260423T220101
CREATED:20230127T173144Z
LAST-MODIFIED:20230527T025034Z
UID:8526-1685214000-1685224800@bedlambarbq.com
SUMMARY:Brantley Cowan
DESCRIPTION:
URL:https://bedlambarbq.com/event/bedlam-live-local-bands-21/
CATEGORIES:Bedlam Live Local Bands 7-10p.m.
END:VEVENT
BEGIN:VEVENT
DTSTART;TZID=America/New_York:20230603T190000
DTEND;TZID=America/New_York:20230603T220000
DTSTAMP:20260423T220101
CREATED:20230527T031142Z
LAST-MODIFIED:20230527T031142Z
UID:8566-1685818800-1685829600@bedlambarbq.com
SUMMARY:Unlikely Blues Band
DESCRIPTION:
URL:https://bedlambarbq.com/event/unlikely-blues-band-3/
CATEGORIES:Bedlam Live Local Bands 7-10p.m.
END:VEVENT
BEGIN:VEVENT
DTSTART;TZID=America/New_York:20230610T190000
DTEND;TZID=America/New_York:20230610T220000
DTSTAMP:20260423T220101
CREATED:20230527T031242Z
LAST-MODIFIED:20230527T031242Z
UID:8568-1686423600-1686434400@bedlambarbq.com
SUMMARY:Don Oliver with Simple Souls
DESCRIPTION:
URL:https://bedlambarbq.com/event/don-oliver-with-simple-souls-2/
CATEGORIES:Bedlam Live Local Bands 7-10p.m.
END:VEVENT
BEGIN:VEVENT
DTSTART;TZID=America/New_York:20230617T190000
DTEND;TZID=America/New_York:20230617T220000
DTSTAMP:20260423T220101
CREATED:20230527T025326Z
LAST-MODIFIED:20230527T025401Z
UID:8562-1687028400-1687039200@bedlambarbq.com
SUMMARY:100 Bones
DESCRIPTION:
URL:https://bedlambarbq.com/event/don-oliver-with-simple-souls/
CATEGORIES:Bedlam Live Local Bands 7-10p.m.
END:VEVENT
BEGIN:VEVENT
DTSTART;TZID=America/New_York:20230624T190000
DTEND;TZID=America/New_York:20230624T220000
DTSTAMP:20260423T220101
CREATED:20230527T031333Z
LAST-MODIFIED:20230527T031333Z
UID:8570-1687633200-1687644000@bedlambarbq.com
SUMMARY:Bruce Benson
DESCRIPTION:
URL:https://bedlambarbq.com/event/bruce-benson/
CATEGORIES:Bedlam Live Local Bands 7-10p.m.
END:VEVENT
BEGIN:VEVENT
DTSTART;TZID=America/New_York:20230701T190000
DTEND;TZID=America/New_York:20230701T220000
DTSTAMP:20260423T220101
CREATED:20230608T003928Z
LAST-MODIFIED:20230624T011549Z
UID:8602-1688238000-1688248800@bedlambarbq.com
SUMMARY:Edgar Cruze
DESCRIPTION:
URL:https://bedlambarbq.com/event/bedlam-live-local-bands-25/
CATEGORIES:Bedlam Live Local Bands 7-10p.m.
END:VEVENT
BEGIN:VEVENT
DTSTART;TZID=America/New_York:20230708T190000
DTEND;TZID=America/New_York:20230708T220000
DTSTAMP:20260423T220101
CREATED:20230527T040652Z
LAST-MODIFIED:20230629T013148Z
UID:8572-1688842800-1688853600@bedlambarbq.com
SUMMARY:Ms. Sunset and a Band Called Moon
DESCRIPTION:
URL:https://bedlambarbq.com/event/bedlam-live-local-bands-22/
CATEGORIES:Bedlam Live Local Bands 7-10p.m.
END:VEVENT
BEGIN:VEVENT
DTSTART;TZID=America/New_York:20230715T190000
DTEND;TZID=America/New_York:20230715T220000
DTSTAMP:20260423T220101
CREATED:20230527T040733Z
LAST-MODIFIED:20230527T040733Z
UID:8574-1689447600-1689458400@bedlambarbq.com
SUMMARY:Jane Mays and the Minnie Funk Band
DESCRIPTION:
URL:https://bedlambarbq.com/event/jane-mays-and-the-minnie-funk-band-3/
CATEGORIES:Bedlam Live Local Bands 7-10p.m.
END:VEVENT
BEGIN:VEVENT
DTSTART;TZID=America/New_York:20230722T190000
DTEND;TZID=America/New_York:20230722T220000
DTSTAMP:20260423T220101
CREATED:20230624T012303Z
LAST-MODIFIED:20230624T012303Z
UID:8616-1690052400-1690063200@bedlambarbq.com
SUMMARY:Matt Neal
DESCRIPTION:
URL:https://bedlambarbq.com/event/matt-neal/
CATEGORIES:Bedlam Live Local Bands 7-10p.m.
END:VEVENT
BEGIN:VEVENT
DTSTART;TZID=America/New_York:20230729T190000
DTEND;TZID=America/New_York:20230729T220000
DTSTAMP:20260423T220101
CREATED:20230527T041303Z
LAST-MODIFIED:20230527T041303Z
UID:8583-1690657200-1690668000@bedlambarbq.com
SUMMARY:Brantley Cowan
DESCRIPTION:
URL:https://bedlambarbq.com/event/brantley-cowan-2/
CATEGORIES:Bedlam Live Local Bands 7-10p.m.
END:VEVENT
BEGIN:VEVENT
DTSTART;TZID=America/New_York:20230804T190000
DTEND;TZID=America/New_York:20230804T220000
DTSTAMP:20260423T220101
CREATED:20230706T005019Z
LAST-MODIFIED:20230706T005019Z
UID:8662-1691175600-1691186400@bedlambarbq.com
SUMMARY:Hank Garrett
DESCRIPTION:
URL:https://bedlambarbq.com/event/hank-garrett/
CATEGORIES:Bedlam Live Local Bands 7-10p.m.
END:VEVENT
BEGIN:VEVENT
DTSTART;TZID=America/New_York:20230805T190000
DTEND;TZID=America/New_York:20230805T220000
DTSTAMP:20260423T220101
CREATED:20230705T221624Z
LAST-MODIFIED:20230705T221624Z
UID:8623-1691262000-1691272800@bedlambarbq.com
SUMMARY:McCaleb Stewart
DESCRIPTION:
URL:https://bedlambarbq.com/event/mccaleb-stewart/
CATEGORIES:Bedlam Live Local Bands 7-10p.m.
END:VEVENT
BEGIN:VEVENT
DTSTART;TZID=America/New_York:20230812T190000
DTEND;TZID=America/New_York:20230812T220000
DTSTAMP:20260423T220101
CREATED:20230705T221736Z
LAST-MODIFIED:20230705T221736Z
UID:8625-1691866800-1691877600@bedlambarbq.com
SUMMARY:Rocky Kanaga Duo
DESCRIPTION:
URL:https://bedlambarbq.com/event/rocky-kanaga-duo/
CATEGORIES:Bedlam Live Local Bands 7-10p.m.
END:VEVENT
BEGIN:VEVENT
DTSTART;TZID=America/New_York:20230819T190000
DTEND;TZID=America/New_York:20230819T220000
DTSTAMP:20260423T220101
CREATED:20230705T221815Z
LAST-MODIFIED:20230705T221815Z
UID:8627-1692471600-1692482400@bedlambarbq.com
SUMMARY:Buffalo Family
DESCRIPTION:
URL:https://bedlambarbq.com/event/buffalo-family/
CATEGORIES:Bedlam Live Local Bands 7-10p.m.
END:VEVENT
BEGIN:VEVENT
DTSTART;TZID=America/New_York:20230826T190000
DTEND;TZID=America/New_York:20230826T220000
DTSTAMP:20260423T220101
CREATED:20230705T221849Z
LAST-MODIFIED:20230705T221849Z
UID:8629-1693076400-1693087200@bedlambarbq.com
SUMMARY:Simple Souls
DESCRIPTION:
URL:https://bedlambarbq.com/event/simple-souls/
CATEGORIES:Bedlam Live Local Bands 7-10p.m.
END:VEVENT
BEGIN:VEVENT
DTSTART;TZID=America/New_York:20230902T190000
DTEND;TZID=America/New_York:20230902T220000
DTSTAMP:20260423T220101
CREATED:20230706T004107Z
LAST-MODIFIED:20230706T004107Z
UID:8641-1693681200-1693692000@bedlambarbq.com
SUMMARY:Live Music
DESCRIPTION:
URL:https://bedlambarbq.com/event/live-music/
CATEGORIES:Bedlam Live Local Bands 7-10p.m.
END:VEVENT
BEGIN:VEVENT
DTSTART;TZID=America/New_York:20230909T190000
DTEND;TZID=America/New_York:20230909T220000
DTSTAMP:20260423T220101
CREATED:20230706T004156Z
LAST-MODIFIED:20230706T004156Z
UID:8643-1694286000-1694296800@bedlambarbq.com
SUMMARY:Brantley Cowan
DESCRIPTION:
URL:https://bedlambarbq.com/event/brantley-cowan-3/
CATEGORIES:Bedlam Live Local Bands 7-10p.m.
END:VEVENT
BEGIN:VEVENT
DTSTART;TZID=America/New_York:20230916T190000
DTEND;TZID=America/New_York:20230916T220000
DTSTAMP:20260423T220101
CREATED:20230706T004238Z
LAST-MODIFIED:20230706T004238Z
UID:8645-1694890800-1694901600@bedlambarbq.com
SUMMARY:Boyz Night Out
DESCRIPTION:
URL:https://bedlambarbq.com/event/boyz-night-out-3/
CATEGORIES:Bedlam Live Local Bands 7-10p.m.
END:VEVENT
BEGIN:VEVENT
DTSTART;TZID=America/New_York:20230923T190000
DTEND;TZID=America/New_York:20230923T220000
DTSTAMP:20260423T220101
CREATED:20230706T004313Z
LAST-MODIFIED:20230706T004313Z
UID:8647-1695495600-1695506400@bedlambarbq.com
SUMMARY:Simple Souls
DESCRIPTION:
URL:https://bedlambarbq.com/event/simple-souls-2/
CATEGORIES:Bedlam Live Local Bands 7-10p.m.
END:VEVENT
BEGIN:VEVENT
DTSTART;TZID=America/New_York:20230930T190000
DTEND;TZID=America/New_York:20230930T220000
DTSTAMP:20260423T220101
CREATED:20230706T004353Z
LAST-MODIFIED:20230706T004353Z
UID:8649-1696100400-1696111200@bedlambarbq.com
SUMMARY:Jane Mays & The Minnie Funk Band
DESCRIPTION:
URL:https://bedlambarbq.com/event/jane-mays-the-minnie-funk-band/
CATEGORIES:Bedlam Live Local Bands 7-10p.m.
END:VEVENT
BEGIN:VEVENT
DTSTART;TZID=America/New_York:20231007T190000
DTEND;TZID=America/New_York:20231007T220000
DTSTAMP:20260423T220101
CREATED:20230706T004551Z
LAST-MODIFIED:20230706T004551Z
UID:8652-1696705200-1696716000@bedlambarbq.com
SUMMARY:Stan Carrier
DESCRIPTION:
URL:https://bedlambarbq.com/event/stan-carrier-2/
CATEGORIES:Bedlam Live Local Bands 7-10p.m.
END:VEVENT
BEGIN:VEVENT
DTSTART;TZID=America/New_York:20231014T190000
DTEND;TZID=America/New_York:20231014T220000
DTSTAMP:20260423T220101
CREATED:20230706T004902Z
LAST-MODIFIED:20230906T004646Z
UID:8658-1697310000-1697320800@bedlambarbq.com
SUMMARY:Jane Mays & The Minnie Funk Band
DESCRIPTION:
URL:https://bedlambarbq.com/event/live-music-2/
CATEGORIES:Bedlam Live Local Bands 7-10p.m.
END:VEVENT
END:VCALENDAR