BEGIN:VCALENDAR
VERSION:2.0
PRODID:-//Bedlam BBQ - ECPv6.15.20//NONSGML v1.0//EN
CALSCALE:GREGORIAN
METHOD:PUBLISH
X-WR-CALNAME:Bedlam BBQ
X-ORIGINAL-URL:https://bedlambarbq.com
X-WR-CALDESC:Events for Bedlam BBQ
REFRESH-INTERVAL;VALUE=DURATION:PT1H
X-Robots-Tag:noindex
X-PUBLISHED-TTL:PT1H
BEGIN:VTIMEZONE
TZID:America/New_York
BEGIN:DAYLIGHT
TZOFFSETFROM:-0500
TZOFFSETTO:-0400
TZNAME:EDT
DTSTART:20230312T070000
END:DAYLIGHT
BEGIN:STANDARD
TZOFFSETFROM:-0400
TZOFFSETTO:-0500
TZNAME:EST
DTSTART:20231105T060000
END:STANDARD
BEGIN:DAYLIGHT
TZOFFSETFROM:-0500
TZOFFSETTO:-0400
TZNAME:EDT
DTSTART:20240310T070000
END:DAYLIGHT
BEGIN:STANDARD
TZOFFSETFROM:-0400
TZOFFSETTO:-0500
TZNAME:EST
DTSTART:20241103T060000
END:STANDARD
BEGIN:DAYLIGHT
TZOFFSETFROM:-0500
TZOFFSETTO:-0400
TZNAME:EDT
DTSTART:20250309T070000
END:DAYLIGHT
BEGIN:STANDARD
TZOFFSETFROM:-0400
TZOFFSETTO:-0500
TZNAME:EST
DTSTART:20251102T060000
END:STANDARD
END:VTIMEZONE
BEGIN:VTIMEZONE
TZID:America/Chicago
BEGIN:DAYLIGHT
TZOFFSETFROM:-0600
TZOFFSETTO:-0500
TZNAME:CDT
DTSTART:20240310T080000
END:DAYLIGHT
BEGIN:STANDARD
TZOFFSETFROM:-0500
TZOFFSETTO:-0600
TZNAME:CST
DTSTART:20241103T070000
END:STANDARD
BEGIN:DAYLIGHT
TZOFFSETFROM:-0600
TZOFFSETTO:-0500
TZNAME:CDT
DTSTART:20250309T080000
END:DAYLIGHT
BEGIN:STANDARD
TZOFFSETFROM:-0500
TZOFFSETTO:-0600
TZNAME:CST
DTSTART:20251102T070000
END:STANDARD
BEGIN:DAYLIGHT
TZOFFSETFROM:-0600
TZOFFSETTO:-0500
TZNAME:CDT
DTSTART:20260308T080000
END:DAYLIGHT
BEGIN:STANDARD
TZOFFSETFROM:-0500
TZOFFSETTO:-0600
TZNAME:CST
DTSTART:20261101T070000
END:STANDARD
END:VTIMEZONE
BEGIN:VEVENT
DTSTART;TZID=America/New_York:20240224T190000
DTEND;TZID=America/New_York:20240224T220000
DTSTAMP:20260424T053015
CREATED:20240127T041002Z
LAST-MODIFIED:20240202T013844Z
UID:8733-1708801200-1708812000@bedlambarbq.com
SUMMARY:Three Amigos
DESCRIPTION:
URL:https://bedlambarbq.com/event/edgar-cruze-trio/
CATEGORIES:Bedlam Live Local Bands 7-10p.m.
END:VEVENT
BEGIN:VEVENT
DTSTART;TZID=America/New_York:20240302T190000
DTEND;TZID=America/New_York:20240302T220000
DTSTAMP:20260424T053015
CREATED:20240306T041127Z
LAST-MODIFIED:20240306T041127Z
UID:8736-1709406000-1709416800@bedlambarbq.com
SUMMARY:Erik Harris
DESCRIPTION:
URL:https://bedlambarbq.com/event/erik-harris/
CATEGORIES:Bedlam Live Local Bands 7-10p.m.
END:VEVENT
BEGIN:VEVENT
DTSTART;TZID=America/New_York:20240309T190000
DTEND;TZID=America/New_York:20240309T220000
DTSTAMP:20260424T053015
CREATED:20240306T041949Z
LAST-MODIFIED:20240306T041949Z
UID:8738-1710010800-1710021600@bedlambarbq.com
SUMMARY:Brantley Cowan
DESCRIPTION:
URL:https://bedlambarbq.com/event/brantley-cowan-6/
CATEGORIES:Bedlam Live Local Bands 7-10p.m.
END:VEVENT
BEGIN:VEVENT
DTSTART;TZID=America/New_York:20240316T190000
DTEND;TZID=America/New_York:20240316T220000
DTSTAMP:20260424T053015
CREATED:20240306T042018Z
LAST-MODIFIED:20240306T042018Z
UID:8740-1710615600-1710626400@bedlambarbq.com
SUMMARY:Buffalo Family
DESCRIPTION:
URL:https://bedlambarbq.com/event/buffalo-family-2/
CATEGORIES:Bedlam Live Local Bands 7-10p.m.
END:VEVENT
BEGIN:VEVENT
DTSTART;TZID=America/New_York:20240323T190000
DTEND;TZID=America/New_York:20240323T220000
DTSTAMP:20260424T053015
CREATED:20240306T042148Z
LAST-MODIFIED:20240306T042148Z
UID:8742-1711220400-1711231200@bedlambarbq.com
SUMMARY:McCaleb Stewart
DESCRIPTION:
URL:https://bedlambarbq.com/event/mccaleb-stewart-2/
CATEGORIES:Bedlam Live Local Bands 7-10p.m.
END:VEVENT
BEGIN:VEVENT
DTSTART;TZID=America/New_York:20240330T190000
DTEND;TZID=America/New_York:20240330T220000
DTSTAMP:20260424T053015
CREATED:20240306T042221Z
LAST-MODIFIED:20240306T042221Z
UID:8744-1711825200-1711836000@bedlambarbq.com
SUMMARY:Unlikely Blues Band
DESCRIPTION:
URL:https://bedlambarbq.com/event/unlikely-blues-band-4/
CATEGORIES:Bedlam Live Local Bands 7-10p.m.
END:VEVENT
BEGIN:VEVENT
DTSTART;TZID=America/New_York:20240406T190000
DTEND;TZID=America/New_York:20240406T220000
DTSTAMP:20260424T053015
CREATED:20240402T230803Z
LAST-MODIFIED:20240402T230803Z
UID:8746-1712430000-1712440800@bedlambarbq.com
SUMMARY:Edgar Cruz Duo
DESCRIPTION:
URL:https://bedlambarbq.com/event/edgar-cruz-duo/
CATEGORIES:Bedlam Live Local Bands 7-10p.m.
END:VEVENT
BEGIN:VEVENT
DTSTART;TZID=America/New_York:20240413T190000
DTEND;TZID=America/New_York:20240413T220000
DTSTAMP:20260424T053015
CREATED:20240402T230858Z
LAST-MODIFIED:20240402T230858Z
UID:8748-1713034800-1713045600@bedlambarbq.com
SUMMARY:Taylor Atkinson
DESCRIPTION:
URL:https://bedlambarbq.com/event/taylor-atkinson-3/
CATEGORIES:Bedlam Live Local Bands 7-10p.m.
END:VEVENT
BEGIN:VEVENT
DTSTART;TZID=America/New_York:20240420T190000
DTEND;TZID=America/New_York:20240420T220000
DTSTAMP:20260424T053015
CREATED:20240402T230939Z
LAST-MODIFIED:20240402T230939Z
UID:8750-1713639600-1713650400@bedlambarbq.com
SUMMARY:Bruce Benson
DESCRIPTION:
URL:https://bedlambarbq.com/event/bruce-benson-4/
CATEGORIES:Bedlam Live Local Bands 7-10p.m.
END:VEVENT
BEGIN:VEVENT
DTSTART;TZID=America/New_York:20240427T190000
DTEND;TZID=America/New_York:20240427T220000
DTSTAMP:20260424T053015
CREATED:20240402T231050Z
LAST-MODIFIED:20240402T231050Z
UID:8752-1714244400-1714255200@bedlambarbq.com
SUMMARY:Cutter Elliot
DESCRIPTION:
URL:https://bedlambarbq.com/event/cutter-elliot/
CATEGORIES:Bedlam Live Local Bands 7-10p.m.
END:VEVENT
BEGIN:VEVENT
DTSTART;TZID=America/New_York:20240504T190000
DTEND;TZID=America/New_York:20240504T220000
DTSTAMP:20260424T053015
CREATED:20240403T003733Z
LAST-MODIFIED:20240403T003733Z
UID:8754-1714849200-1714860000@bedlambarbq.com
SUMMARY:Unlikely Blues Band
DESCRIPTION:
URL:https://bedlambarbq.com/event/unlikely-blues-band-5/
CATEGORIES:Bedlam Live Local Bands 7-10p.m.
END:VEVENT
BEGIN:VEVENT
DTSTART;TZID=America/New_York:20240511T190000
DTEND;TZID=America/New_York:20240511T220000
DTSTAMP:20260424T053015
CREATED:20240403T003821Z
LAST-MODIFIED:20240403T003821Z
UID:8756-1715454000-1715464800@bedlambarbq.com
SUMMARY:Buffalo Family
DESCRIPTION:
URL:https://bedlambarbq.com/event/buffalo-family-4/
CATEGORIES:Bedlam Live Local Bands 7-10p.m.
END:VEVENT
BEGIN:VEVENT
DTSTART;TZID=America/New_York:20240518T190000
DTEND;TZID=America/New_York:20240518T220000
DTSTAMP:20260424T053015
CREATED:20240403T003925Z
LAST-MODIFIED:20240403T003925Z
UID:8758-1716058800-1716069600@bedlambarbq.com
SUMMARY:Tanner Fields & Ricky Lee
DESCRIPTION:
URL:https://bedlambarbq.com/event/tanner-fields-ricky-lee/
CATEGORIES:Bedlam Live Local Bands 7-10p.m.
END:VEVENT
BEGIN:VEVENT
DTSTART;TZID=America/New_York:20240525T190000
DTEND;TZID=America/New_York:20240525T220000
DTSTAMP:20260424T053015
CREATED:20240403T004017Z
LAST-MODIFIED:20240403T004017Z
UID:8760-1716663600-1716674400@bedlambarbq.com
SUMMARY:100 Bones
DESCRIPTION:
URL:https://bedlambarbq.com/event/100-bones/
CATEGORIES:Bedlam Live Local Bands 7-10p.m.
END:VEVENT
BEGIN:VEVENT
DTSTART;TZID=America/New_York:20240608T190000
DTEND;TZID=America/New_York:20240608T220000
DTSTAMP:20260424T053015
CREATED:20240403T004158Z
LAST-MODIFIED:20240410T005840Z
UID:8762-1717873200-1717884000@bedlambarbq.com
SUMMARY:Boyz Night Out
DESCRIPTION:
URL:https://bedlambarbq.com/event/harry-philips/
CATEGORIES:Bedlam Live Local Bands 7-10p.m.
END:VEVENT
BEGIN:VEVENT
DTSTART;TZID=America/New_York:20240615T190000
DTEND;TZID=America/New_York:20240615T220000
DTSTAMP:20260424T053015
CREATED:20240403T004506Z
LAST-MODIFIED:20240417T030515Z
UID:8768-1718478000-1718488800@bedlambarbq.com
SUMMARY:McCaleb Stewart
DESCRIPTION:
URL:https://bedlambarbq.com/event/mccaleb-stewart-3/
CATEGORIES:Bedlam Live Local Bands 7-10p.m.
END:VEVENT
BEGIN:VEVENT
DTSTART;TZID=America/New_York:20240622T190000
DTEND;TZID=America/New_York:20240622T220000
DTSTAMP:20260424T053015
CREATED:20240403T004405Z
LAST-MODIFIED:20240403T004405Z
UID:8766-1719082800-1719093600@bedlambarbq.com
SUMMARY:Brent Krueger & Harold Bear
DESCRIPTION:
URL:https://bedlambarbq.com/event/brent-krueger-harold-bear/
CATEGORIES:Bedlam Live Local Bands 7-10p.m.
END:VEVENT
BEGIN:VEVENT
DTSTART;TZID=America/New_York:20240629T190000
DTEND;TZID=America/New_York:20240629T220000
DTSTAMP:20260424T053015
CREATED:20240403T004315Z
LAST-MODIFIED:20240417T030438Z
UID:8764-1719687600-1719698400@bedlambarbq.com
SUMMARY:Jane Mays & The Minnie Funk Band
DESCRIPTION:
URL:https://bedlambarbq.com/event/jane-mays-the-minnie-funk-band-2/
CATEGORIES:Bedlam Live Local Bands 7-10p.m.
END:VEVENT
BEGIN:VEVENT
DTSTART;TZID=America/Chicago:20251226T190000
DTEND;TZID=America/Chicago:20251226T220000
DTSTAMP:20260424T053015
CREATED:20251217T233601Z
LAST-MODIFIED:20251217T233706Z
UID:9308-1766775600-1766786400@bedlambarbq.com
SUMMARY:HANK GARRETT
DESCRIPTION:
URL:https://bedlambarbq.com/event/hank-garrett-3/
CATEGORIES:Bedlam Live Local Bands 7-10p.m.
END:VEVENT
END:VCALENDAR