BEGIN:VCALENDAR
VERSION:2.0
PRODID:-//Bedlam BBQ - ECPv6.15.20//NONSGML v1.0//EN
CALSCALE:GREGORIAN
METHOD:PUBLISH
X-ORIGINAL-URL:https://bedlambarbq.com
X-WR-CALDESC:Events for Bedlam BBQ
REFRESH-INTERVAL;VALUE=DURATION:PT1H
X-Robots-Tag:noindex
X-PUBLISHED-TTL:PT1H
BEGIN:VTIMEZONE
TZID:UTC
BEGIN:STANDARD
TZOFFSETFROM:+0000
TZOFFSETTO:+0000
TZNAME:UTC
DTSTART:20180101T000000
END:STANDARD
END:VTIMEZONE
BEGIN:VEVENT
DTSTART;TZID=UTC:20191005T190000
DTEND;TZID=UTC:20191005T220000
DTSTAMP:20260423T092616
CREATED:20190905T234205Z
LAST-MODIFIED:20190905T234205Z
UID:2827-1570302000-1570312800@bedlambarbq.com
SUMMARY:BLLB Bedlam Live Local Bands CUTTER ELLIOTT
DESCRIPTION:
URL:https://bedlambarbq.com/event/bllb-bedlam-live-local-bands-cutter-elliott/
END:VEVENT
BEGIN:VEVENT
DTSTART;TZID=UTC:20191012T190000
DTEND;TZID=UTC:20191012T220000
DTSTAMP:20260423T092616
CREATED:20190905T234236Z
LAST-MODIFIED:20191029T073130Z
UID:2829-1570906800-1570917600@bedlambarbq.com
SUMMARY:BLLB Bedlam Live Local Bands Jane Mayes & the Mini Funk Band
DESCRIPTION:
URL:https://bedlambarbq.com/event/bllb-bedlam-live-local-bands-2/
END:VEVENT
BEGIN:VEVENT
DTSTART;TZID=UTC:20191019T190000
DTEND;TZID=UTC:20191019T220000
DTSTAMP:20260423T092616
CREATED:20190905T234301Z
LAST-MODIFIED:20191029T073205Z
UID:2831-1571511600-1571522400@bedlambarbq.com
SUMMARY:BLLB Bedlam Live Local Bands ERIC HARRIS & FRIENDS
DESCRIPTION:
URL:https://bedlambarbq.com/event/bllb-bedlam-live-local-bands-3/
END:VEVENT
BEGIN:VEVENT
DTSTART;TZID=UTC:20191026T190000
DTEND;TZID=UTC:20191026T220000
DTSTAMP:20260423T092616
CREATED:20190905T234338Z
LAST-MODIFIED:20190905T234338Z
UID:2833-1572116400-1572127200@bedlambarbq.com
SUMMARY:BLLB Bedlam Live Local Bands KESTREL & KITE
DESCRIPTION:
URL:https://bedlambarbq.com/event/bllb-bedlam-live-local-bands-kestrel-kite/
END:VEVENT
END:VCALENDAR