BEGIN:VCALENDAR
VERSION:2.0
PRODID:-//Bedlam BBQ - ECPv6.15.20//NONSGML v1.0//EN
CALSCALE:GREGORIAN
METHOD:PUBLISH
X-ORIGINAL-URL:https://bedlambarbq.com
X-WR-CALDESC:Events for Bedlam BBQ
REFRESH-INTERVAL;VALUE=DURATION:PT1H
X-Robots-Tag:noindex
X-PUBLISHED-TTL:PT1H
BEGIN:VTIMEZONE
TZID:UTC
BEGIN:STANDARD
TZOFFSETFROM:+0000
TZOFFSETTO:+0000
TZNAME:UTC
DTSTART:20190101T000000
END:STANDARD
END:VTIMEZONE
BEGIN:VEVENT
DTSTART;TZID=UTC:20200201T190000
DTEND;TZID=UTC:20200201T220000
DTSTAMP:20260423T050211
CREATED:20200108T095234Z
LAST-MODIFIED:20200108T095355Z
UID:3317-1580583600-1580594400@bedlambarbq.com
SUMMARY:BLLB Bedlam Live Local Bands Thomas Cherry
DESCRIPTION:
URL:https://bedlambarbq.com/event/bllb-bedlam-live-local-bands-thomas-cherry/
END:VEVENT
BEGIN:VEVENT
DTSTART;TZID=UTC:20200202T120000
DTEND;TZID=UTC:20200202T153000
DTSTAMP:20260423T050211
CREATED:20200108T100158Z
LAST-MODIFIED:20200108T100158Z
UID:3333-1580644800-1580657400@bedlambarbq.com
SUMMARY:GOSPEL SUNDAY
DESCRIPTION:
URL:https://bedlambarbq.com/event/gospel-sunday-8/
END:VEVENT
BEGIN:VEVENT
DTSTART;TZID=UTC:20200208T190000
DTEND;TZID=UTC:20200208T220000
DTSTAMP:20260423T050211
CREATED:20200108T095704Z
LAST-MODIFIED:20200108T095811Z
UID:3319-1581188400-1581199200@bedlambarbq.com
SUMMARY:BLLB Bedlam Live Local Bands
DESCRIPTION:
URL:https://bedlambarbq.com/event/bllb-bedlam-live-local-bands-6/
END:VEVENT
BEGIN:VEVENT
DTSTART;TZID=UTC:20200209T120000
DTEND;TZID=UTC:20200209T150000
DTSTAMP:20260423T050211
CREATED:20200108T100227Z
LAST-MODIFIED:20200108T100227Z
UID:3335-1581249600-1581260400@bedlambarbq.com
SUMMARY:GOSPEL SUNDAY
DESCRIPTION:
URL:https://bedlambarbq.com/event/gospel-sunday-9/
END:VEVENT
BEGIN:VEVENT
DTSTART;TZID=UTC:20200215T190000
DTEND;TZID=UTC:20200215T220000
DTSTAMP:20260423T050211
CREATED:20200108T095747Z
LAST-MODIFIED:20200108T095747Z
UID:3321-1581793200-1581804000@bedlambarbq.com
SUMMARY:BLLB Bedlam Live Local Bands
DESCRIPTION:
URL:https://bedlambarbq.com/event/bllb-bedlam-live-local-bands-7/
END:VEVENT
BEGIN:VEVENT
DTSTART;TZID=UTC:20200216T120000
DTEND;TZID=UTC:20200216T150000
DTSTAMP:20260423T050211
CREATED:20200108T100418Z
LAST-MODIFIED:20200108T100418Z
UID:3337-1581854400-1581865200@bedlambarbq.com
SUMMARY:GOSPEL SUNDAY
DESCRIPTION:
URL:https://bedlambarbq.com/event/gospel-sunday-10/
END:VEVENT
BEGIN:VEVENT
DTSTART;TZID=UTC:20200222T190000
DTEND;TZID=UTC:20200222T220000
DTSTAMP:20260423T050211
CREATED:20200108T095844Z
LAST-MODIFIED:20200108T095844Z
UID:3323-1582398000-1582408800@bedlambarbq.com
SUMMARY:BLLB Bedlam Live Local Bands
DESCRIPTION:
URL:https://bedlambarbq.com/event/bllb-bedlam-live-local-bands-8/
END:VEVENT
BEGIN:VEVENT
DTSTART;TZID=UTC:20200223T120000
DTEND;TZID=UTC:20200223T150000
DTSTAMP:20260423T050211
CREATED:20200108T100451Z
LAST-MODIFIED:20200108T100451Z
UID:3339-1582459200-1582470000@bedlambarbq.com
SUMMARY:GOSPEL SUNDAY
DESCRIPTION:
URL:https://bedlambarbq.com/event/gospel-sunday-11/
END:VEVENT
BEGIN:VEVENT
DTSTART;TZID=UTC:20200229T190000
DTEND;TZID=UTC:20200229T220000
DTSTAMP:20260423T050211
CREATED:20200108T095921Z
LAST-MODIFIED:20200108T095921Z
UID:3325-1583002800-1583013600@bedlambarbq.com
SUMMARY:BLLB Bedlam Live Local Bands
DESCRIPTION:
URL:https://bedlambarbq.com/event/bllb-bedlam-live-local-bands-9/
END:VEVENT
END:VCALENDAR