BEGIN:VCALENDAR
VERSION:2.0
PRODID:-//Bedlam BBQ - ECPv6.15.20//NONSGML v1.0//EN
CALSCALE:GREGORIAN
METHOD:PUBLISH
X-WR-CALNAME:Bedlam BBQ
X-ORIGINAL-URL:https://bedlambarbq.com
X-WR-CALDESC:Events for Bedlam BBQ
REFRESH-INTERVAL;VALUE=DURATION:PT1H
X-Robots-Tag:noindex
X-PUBLISHED-TTL:PT1H
BEGIN:VTIMEZONE
TZID:UTC
BEGIN:STANDARD
TZOFFSETFROM:+0000
TZOFFSETTO:+0000
TZNAME:UTC
DTSTART:20190101T000000
END:STANDARD
END:VTIMEZONE
BEGIN:VEVENT
DTSTART;TZID=UTC:20200301T120000
DTEND;TZID=UTC:20200301T150000
DTSTAMP:20260423T012051
CREATED:20200108T100537Z
LAST-MODIFIED:20200108T100537Z
UID:3341-1583064000-1583074800@bedlambarbq.com
SUMMARY:GOSPEL SUNDAY
DESCRIPTION:
URL:https://bedlambarbq.com/event/gospel-sunday-12/
END:VEVENT
BEGIN:VEVENT
DTSTART;TZID=UTC:20200314T190000
DTEND;TZID=UTC:20200314T220000
DTSTAMP:20260423T012051
CREATED:20200315T014043Z
LAST-MODIFIED:20200315T014043Z
UID:3633-1584212400-1584223200@bedlambarbq.com
SUMMARY:KYLE REID bedlamlivelocalbands
DESCRIPTION:
URL:https://bedlambarbq.com/event/kyle-reid-bedlamlivelocalbands/
LOCATION:Bedlam BAR-B-Q\, 610 NE 50th Street\, Oklahoma City\, OK\, 73105
END:VEVENT
BEGIN:VEVENT
DTSTART;TZID=UTC:20200321T190000
DTEND;TZID=UTC:20200321T223000
DTSTAMP:20260423T012051
CREATED:20200315T014224Z
LAST-MODIFIED:20200315T014224Z
UID:3635-1584817200-1584829800@bedlambarbq.com
SUMMARY:ROCKY KANAGA & BLAKE LENNON bedlamlivelocalbands
DESCRIPTION:
URL:https://bedlambarbq.com/event/rocky-kanaga-blake-lennon-bedlamlivelocalbands/
LOCATION:Bedlam BAR-B-Q\, 610 NE 50th Street\, Oklahoma City\, OK\, 73105
END:VEVENT
BEGIN:VEVENT
DTSTART;TZID=UTC:20200328T190000
DTEND;TZID=UTC:20200328T220000
DTSTAMP:20260423T012051
CREATED:20200315T014318Z
LAST-MODIFIED:20200315T014318Z
UID:3637-1585422000-1585432800@bedlambarbq.com
SUMMARY:BREAD & BUTTER bedalmlivelocalbands
DESCRIPTION:
URL:https://bedlambarbq.com/event/bread-butter-bedalmlivelocalbands/
LOCATION:Bedlam BAR-B-Q\, 610 NE 50th Street\, Oklahoma City\, OK\, 73105
END:VEVENT
END:VCALENDAR