BEGIN:VCALENDAR
VERSION:2.0
PRODID:-//Bedlam BBQ - ECPv6.15.20//NONSGML v1.0//EN
CALSCALE:GREGORIAN
METHOD:PUBLISH
X-ORIGINAL-URL:https://bedlambarbq.com
X-WR-CALDESC:Events for Bedlam BBQ
REFRESH-INTERVAL;VALUE=DURATION:PT1H
X-Robots-Tag:noindex
X-PUBLISHED-TTL:PT1H
BEGIN:VTIMEZONE
TZID:UTC
BEGIN:STANDARD
TZOFFSETFROM:+0000
TZOFFSETTO:+0000
TZNAME:UTC
DTSTART:20190101T000000
END:STANDARD
END:VTIMEZONE
BEGIN:VEVENT
DTSTART;TZID=UTC:20200606T190000
DTEND;TZID=UTC:20200606T220000
DTSTAMP:20260422T200724
CREATED:20200527T030642Z
LAST-MODIFIED:20200527T033455Z
UID:3992-1591470000-1591480800@bedlambarbq.com
SUMMARY:Tandem-BLLB-Bedlam Live Local Bands
DESCRIPTION:
URL:https://bedlambarbq.com/event/tandem-bllb-bedlam-live-local-bands/
LOCATION:Bedlam BAR-B-Q\, 610 NE 50th Street\, Oklahoma City\, OK\, 73105
END:VEVENT
BEGIN:VEVENT
DTSTART;TZID=UTC:20200613T190000
DTEND;TZID=UTC:20200613T220000
DTSTAMP:20260422T200724
CREATED:20200527T032656Z
LAST-MODIFIED:20200527T032656Z
UID:3994-1592074800-1592085600@bedlambarbq.com
SUMMARY:Cutter Elliott-BLLB-Bedlam Live Local Bands
DESCRIPTION:If you like Johnny Cash this is your night. Head on over to Bedlam for some great old country!
URL:https://bedlambarbq.com/event/cutter-elliott-bllb-bedlam-live-local-bands/
END:VEVENT
BEGIN:VEVENT
DTSTART;TZID=UTC:20200620T190000
DTEND;TZID=UTC:20200620T220000
DTSTAMP:20260422T200724
CREATED:20200527T033236Z
LAST-MODIFIED:20200527T033403Z
UID:3997-1592679600-1592690400@bedlambarbq.com
SUMMARY:Kestrel & Kite-BLLB-Bedlam Live Local Bands
DESCRIPTION:
URL:https://bedlambarbq.com/event/kestrel-kite-bllb-bedlam-live-local-bands/
LOCATION:Bedlam BAR-B-Q\, 610 NE 50th Street\, Oklahoma City\, OK\, 73105
END:VEVENT
BEGIN:VEVENT
DTSTART;TZID=UTC:20200627T190000
DTEND;TZID=UTC:20200627T220000
DTSTAMP:20260422T200724
CREATED:20200527T035242Z
LAST-MODIFIED:20200527T035242Z
UID:4002-1593284400-1593295200@bedlambarbq.com
SUMMARY:Thomas Cherry-BLLB-Bedlam Live Local Bands
DESCRIPTION:
URL:https://bedlambarbq.com/event/thomas-cherry-bllb-bedlam-live-local-bands/
LOCATION:Bedlam BAR-B-Q\, 610 NE 50th Street\, Oklahoma City\, OK\, 73105
END:VEVENT
END:VCALENDAR