BEGIN:VCALENDAR
VERSION:2.0
PRODID:-//Bedlam BBQ - ECPv6.15.20//NONSGML v1.0//EN
CALSCALE:GREGORIAN
METHOD:PUBLISH
X-WR-CALNAME:Bedlam BBQ
X-ORIGINAL-URL:https://bedlambarbq.com
X-WR-CALDESC:Events for Bedlam BBQ
REFRESH-INTERVAL;VALUE=DURATION:PT1H
X-Robots-Tag:noindex
X-PUBLISHED-TTL:PT1H
BEGIN:VTIMEZONE
TZID:UTC
BEGIN:STANDARD
TZOFFSETFROM:+0000
TZOFFSETTO:+0000
TZNAME:UTC
DTSTART:20190101T000000
END:STANDARD
END:VTIMEZONE
BEGIN:VEVENT
DTSTART;TZID=UTC:20200801T190000
DTEND;TZID=UTC:20200801T220000
DTSTAMP:20260422T163128
CREATED:20200709T001910Z
LAST-MODIFIED:20200709T001910Z
UID:4014-1596308400-1596319200@bedlambarbq.com
SUMMARY:Rocky Kanaga & Blake Lennon-BLLB-Bedlam Live Local Bands
DESCRIPTION:
URL:https://bedlambarbq.com/event/rocky-kanaga-blake-lennon-bllb-bedlam-live-local-bands/
LOCATION:Bedlam BAR-B-Q\, 610 NE 50th Street\, Oklahoma City\, OK\, 73105
END:VEVENT
BEGIN:VEVENT
DTSTART;TZID=UTC:20200808T190000
DTEND;TZID=UTC:20200808T220000
DTSTAMP:20260422T163128
CREATED:20200709T001953Z
LAST-MODIFIED:20200825T041100Z
UID:4016-1596913200-1596924000@bedlambarbq.com
SUMMARY:BLLB-Bedlam Live Local Bands THE BJW BAND
DESCRIPTION:
URL:https://bedlambarbq.com/event/bllb-bedlam-live-local-bands-10/
LOCATION:Bedlam BAR-B-Q\, 610 NE 50th Street\, Oklahoma City\, OK\, 73105
END:VEVENT
BEGIN:VEVENT
DTSTART;TZID=UTC:20200815T190000
DTEND;TZID=UTC:20200815T220000
DTSTAMP:20260422T163128
CREATED:20200709T002133Z
LAST-MODIFIED:20200825T041344Z
UID:4018-1597518000-1597528800@bedlambarbq.com
SUMMARY:BLLB-Bedlam Live Local Bands THOMAS CHERRY & NOAH TAYLOR
DESCRIPTION:
URL:https://bedlambarbq.com/event/bllb-bedlam-live-local-bands-11/
LOCATION:Bedlam BAR-B-Q\, 610 NE 50th Street\, Oklahoma City\, OK\, 73105
END:VEVENT
BEGIN:VEVENT
DTSTART;TZID=UTC:20200822T190000
DTEND;TZID=UTC:20200822T220000
DTSTAMP:20260422T163128
CREATED:20200709T002223Z
LAST-MODIFIED:20200825T040942Z
UID:4020-1598122800-1598133600@bedlambarbq.com
SUMMARY:BLLB-Bedlam Live Local Bands UNLIKELY BLUES BAND
DESCRIPTION:
URL:https://bedlambarbq.com/event/bllb-bedlam-live-local-bands-12/
LOCATION:Bedlam BAR-B-Q\, 610 NE 50th Street\, Oklahoma City\, OK\, 73105
END:VEVENT
BEGIN:VEVENT
DTSTART;TZID=UTC:20200829T190000
DTEND;TZID=UTC:20200829T220000
DTSTAMP:20260422T163128
CREATED:20200709T002349Z
LAST-MODIFIED:20200825T040918Z
UID:4024-1598727600-1598738400@bedlambarbq.com
SUMMARY:BLLB-Bedlam Live Local Bands ELIZABETH SPEEGLE BAND
DESCRIPTION:
URL:https://bedlambarbq.com/event/bllb-bedlam-live-local-bands-14/
LOCATION:Bedlam BAR-B-Q\, 610 NE 50th Street\, Oklahoma City\, OK\, 73105
END:VEVENT
END:VCALENDAR