BEGIN:VCALENDAR
VERSION:2.0
PRODID:-//Bedlam BBQ - ECPv6.15.20//NONSGML v1.0//EN
CALSCALE:GREGORIAN
METHOD:PUBLISH
X-WR-CALNAME:Bedlam BBQ
X-ORIGINAL-URL:https://bedlambarbq.com
X-WR-CALDESC:Events for Bedlam BBQ
REFRESH-INTERVAL;VALUE=DURATION:PT1H
X-Robots-Tag:noindex
X-PUBLISHED-TTL:PT1H
BEGIN:VTIMEZONE
TZID:America/New_York
BEGIN:DAYLIGHT
TZOFFSETFROM:-0500
TZOFFSETTO:-0400
TZNAME:EDT
DTSTART:20200308T070000
END:DAYLIGHT
BEGIN:STANDARD
TZOFFSETFROM:-0400
TZOFFSETTO:-0500
TZNAME:EST
DTSTART:20201101T060000
END:STANDARD
BEGIN:DAYLIGHT
TZOFFSETFROM:-0500
TZOFFSETTO:-0400
TZNAME:EDT
DTSTART:20210314T070000
END:DAYLIGHT
BEGIN:STANDARD
TZOFFSETFROM:-0400
TZOFFSETTO:-0500
TZNAME:EST
DTSTART:20211107T060000
END:STANDARD
BEGIN:DAYLIGHT
TZOFFSETFROM:-0500
TZOFFSETTO:-0400
TZNAME:EDT
DTSTART:20220313T070000
END:DAYLIGHT
BEGIN:STANDARD
TZOFFSETFROM:-0400
TZOFFSETTO:-0500
TZNAME:EST
DTSTART:20221106T060000
END:STANDARD
END:VTIMEZONE
BEGIN:VEVENT
DTSTART;TZID=America/New_York:20210306T190000
DTEND;TZID=America/New_York:20210306T220000
DTSTAMP:20260422T071411
CREATED:20210225T013100Z
LAST-MODIFIED:20210225T013100Z
UID:4560-1615057200-1615068000@bedlambarbq.com
SUMMARY:BLLB bedlam live local bands
DESCRIPTION:
URL:https://bedlambarbq.com/event/bllb-bedlam-live-local-bands-13/
END:VEVENT
BEGIN:VEVENT
DTSTART;TZID=America/New_York:20210313T190000
DTEND;TZID=America/New_York:20210313T220000
DTSTAMP:20260422T071411
CREATED:20210225T013153Z
LAST-MODIFIED:20210225T013153Z
UID:4562-1615662000-1615672800@bedlambarbq.com
SUMMARY:BLLB bedlam live local bands
DESCRIPTION:
URL:https://bedlambarbq.com/event/bllb-bedlam-live-local-bands-15/
END:VEVENT
BEGIN:VEVENT
DTSTART;TZID=America/New_York:20210320T190000
DTEND;TZID=America/New_York:20210320T220000
DTSTAMP:20260422T071411
CREATED:20210225T013952Z
LAST-MODIFIED:20210225T013952Z
UID:4564-1616266800-1616277600@bedlambarbq.com
SUMMARY:JANE MAYS BLLB bedlam live local bands
DESCRIPTION:
URL:https://bedlambarbq.com/event/jane-mays-bllb-bedlam-live-local-bands/
END:VEVENT
END:VCALENDAR