BEGIN:VCALENDAR
VERSION:2.0
PRODID:-//Bedlam BBQ - ECPv6.15.20//NONSGML v1.0//EN
CALSCALE:GREGORIAN
METHOD:PUBLISH
X-WR-CALNAME:Bedlam BBQ
X-ORIGINAL-URL:https://bedlambarbq.com
X-WR-CALDESC:Events for Bedlam BBQ
REFRESH-INTERVAL;VALUE=DURATION:PT1H
X-Robots-Tag:noindex
X-PUBLISHED-TTL:PT1H
BEGIN:VTIMEZONE
TZID:America/New_York
BEGIN:DAYLIGHT
TZOFFSETFROM:-0500
TZOFFSETTO:-0400
TZNAME:EDT
DTSTART:20200308T070000
END:DAYLIGHT
BEGIN:STANDARD
TZOFFSETFROM:-0400
TZOFFSETTO:-0500
TZNAME:EST
DTSTART:20201101T060000
END:STANDARD
BEGIN:DAYLIGHT
TZOFFSETFROM:-0500
TZOFFSETTO:-0400
TZNAME:EDT
DTSTART:20210314T070000
END:DAYLIGHT
BEGIN:STANDARD
TZOFFSETFROM:-0400
TZOFFSETTO:-0500
TZNAME:EST
DTSTART:20211107T060000
END:STANDARD
BEGIN:DAYLIGHT
TZOFFSETFROM:-0500
TZOFFSETTO:-0400
TZNAME:EDT
DTSTART:20220313T070000
END:DAYLIGHT
BEGIN:STANDARD
TZOFFSETFROM:-0400
TZOFFSETTO:-0500
TZNAME:EST
DTSTART:20221106T060000
END:STANDARD
END:VTIMEZONE
BEGIN:VEVENT
DTSTART;TZID=America/New_York:20210807T190000
DTEND;TZID=America/New_York:20210807T220000
DTSTAMP:20260421T223434
CREATED:20210528T190813Z
LAST-MODIFIED:20210528T190813Z
UID:4854-1628362800-1628373600@bedlambarbq.com
SUMMARY:Josh Gilbert #bedlamlivelocalbands
DESCRIPTION:
URL:https://bedlambarbq.com/event/josh-gilbert-bedlamlivelocalbands/
END:VEVENT
BEGIN:VEVENT
DTSTART;TZID=America/New_York:20210814T190000
DTEND;TZID=America/New_York:20210814T220000
DTSTAMP:20260421T223434
CREATED:20210528T190903Z
LAST-MODIFIED:20210821T224416Z
UID:4856-1628967600-1628978400@bedlambarbq.com
SUMMARY:Brent Saulsbury #bedlamlivelocalbands
DESCRIPTION:
URL:https://bedlambarbq.com/event/buddy-south-bedlamlivelocalbands-3/
END:VEVENT
BEGIN:VEVENT
DTSTART;TZID=America/New_York:20210821T190000
DTEND;TZID=America/New_York:20210821T220000
DTSTAMP:20260421T223434
CREATED:20210821T224545Z
LAST-MODIFIED:20210821T224545Z
UID:5021-1629572400-1629583200@bedlambarbq.com
SUMMARY:Matt Brougher Band #bedlamlivelocalbands
DESCRIPTION:
URL:https://bedlambarbq.com/event/matt-brougher-band-bedlamlivelocalbands/
END:VEVENT
BEGIN:VEVENT
DTSTART;TZID=America/New_York:20210828T190000
DTEND;TZID=America/New_York:20210828T220000
DTSTAMP:20260421T223434
CREATED:20210521T191040Z
LAST-MODIFIED:20210821T224458Z
UID:4860-1630177200-1630188000@bedlambarbq.com
SUMMARY:Bruce Benson #bedlamlivelocalbands
DESCRIPTION:
URL:https://bedlambarbq.com/event/oklahoma-uprising-bedlamlivelocalbands/
END:VEVENT
END:VCALENDAR