BEGIN:VCALENDAR
VERSION:2.0
PRODID:-//Bedlam BBQ - ECPv6.15.20//NONSGML v1.0//EN
CALSCALE:GREGORIAN
METHOD:PUBLISH
X-ORIGINAL-URL:https://bedlambarbq.com
X-WR-CALDESC:Events for Bedlam BBQ
REFRESH-INTERVAL;VALUE=DURATION:PT1H
X-Robots-Tag:noindex
X-PUBLISHED-TTL:PT1H
BEGIN:VTIMEZONE
TZID:America/New_York
BEGIN:DAYLIGHT
TZOFFSETFROM:-0500
TZOFFSETTO:-0400
TZNAME:EDT
DTSTART:20200308T070000
END:DAYLIGHT
BEGIN:STANDARD
TZOFFSETFROM:-0400
TZOFFSETTO:-0500
TZNAME:EST
DTSTART:20201101T060000
END:STANDARD
BEGIN:DAYLIGHT
TZOFFSETFROM:-0500
TZOFFSETTO:-0400
TZNAME:EDT
DTSTART:20210314T070000
END:DAYLIGHT
BEGIN:STANDARD
TZOFFSETFROM:-0400
TZOFFSETTO:-0500
TZNAME:EST
DTSTART:20211107T060000
END:STANDARD
BEGIN:DAYLIGHT
TZOFFSETFROM:-0500
TZOFFSETTO:-0400
TZNAME:EDT
DTSTART:20220313T070000
END:DAYLIGHT
BEGIN:STANDARD
TZOFFSETFROM:-0400
TZOFFSETTO:-0500
TZNAME:EST
DTSTART:20221106T060000
END:STANDARD
END:VTIMEZONE
BEGIN:VEVENT
DTSTART;TZID=America/New_York:20210904T190000
DTEND;TZID=America/New_York:20210904T220000
DTSTAMP:20260421T210602
CREATED:20211117T184202Z
LAST-MODIFIED:20211117T184202Z
UID:5202-1630782000-1630792800@bedlambarbq.com
SUMMARY:Unlikely Blues Band #bedlamlivelocalbands
DESCRIPTION:
URL:https://bedlambarbq.com/event/unlikely-blues-band-bedlamlivelocalbands-3/
END:VEVENT
BEGIN:VEVENT
DTSTART;TZID=America/New_York:20210911T210000
DTEND;TZID=America/New_York:20210911T220000
DTSTAMP:20260421T210602
CREATED:20211117T184107Z
LAST-MODIFIED:20211117T184107Z
UID:5200-1631394000-1631397600@bedlambarbq.com
SUMMARY:Bruce Benson Band #bedlamlivelocalbands
DESCRIPTION:
URL:https://bedlambarbq.com/event/bruce-benson-band-bedlamlivelocalbands/
END:VEVENT
BEGIN:VEVENT
DTSTART;TZID=America/New_York:20210918T190000
DTEND;TZID=America/New_York:20210918T220000
DTSTAMP:20260421T210602
CREATED:20211117T184020Z
LAST-MODIFIED:20211117T184020Z
UID:5198-1631991600-1632002400@bedlambarbq.com
SUMMARY:Brantley Cowan #bedlamlivelocalbands
DESCRIPTION:
URL:https://bedlambarbq.com/event/brantley-cowan-bedlamlivelocalbands-2/
END:VEVENT
BEGIN:VEVENT
DTSTART;TZID=America/New_York:20210925T190000
DTEND;TZID=America/New_York:20210925T220000
DTSTAMP:20260421T210602
CREATED:20211117T183928Z
LAST-MODIFIED:20211117T183928Z
UID:5196-1632596400-1632607200@bedlambarbq.com
SUMMARY:Brent Saulbury #bedlamlivelocalbands
DESCRIPTION:
URL:https://bedlambarbq.com/event/brent-saulbury-bedlamlivelocalbands/
END:VEVENT
END:VCALENDAR