BEGIN:VCALENDAR
VERSION:2.0
PRODID:-//Bedlam BBQ - ECPv6.15.20//NONSGML v1.0//EN
CALSCALE:GREGORIAN
METHOD:PUBLISH
X-WR-CALNAME:Bedlam BBQ
X-ORIGINAL-URL:https://bedlambarbq.com
X-WR-CALDESC:Events for Bedlam BBQ
REFRESH-INTERVAL;VALUE=DURATION:PT1H
X-Robots-Tag:noindex
X-PUBLISHED-TTL:PT1H
BEGIN:VTIMEZONE
TZID:UTC
BEGIN:STANDARD
TZOFFSETFROM:+0000
TZOFFSETTO:+0000
TZNAME:UTC
DTSTART:20210101T000000
END:STANDARD
END:VTIMEZONE
BEGIN:VEVENT
DTSTART;TZID=UTC:20220702T190000
DTEND;TZID=UTC:20220702T220000
DTSTAMP:20260421T062214
CREATED:20220427T201209Z
LAST-MODIFIED:20220427T201209Z
UID:7613-1656788400-1656799200@bedlambarbq.com
SUMMARY:PAX #bedlamlivelocalbands
DESCRIPTION:
URL:https://bedlambarbq.com/event/pax-bedlamlivelocalbands-3/
END:VEVENT
BEGIN:VEVENT
DTSTART;TZID=UTC:20220709T190000
DTEND;TZID=UTC:20220709T220000
DTSTAMP:20260421T062214
CREATED:20220427T201351Z
LAST-MODIFIED:20220721T224119Z
UID:7616-1657393200-1657404000@bedlambarbq.com
SUMMARY:SHANE CONWAY #bedlamlivelocalbands
DESCRIPTION:
URL:https://bedlambarbq.com/event/brantley-cowan-bedlamlivelocalbands-3/
END:VEVENT
BEGIN:VEVENT
DTSTART;TZID=UTC:20220716T190000
DTEND;TZID=UTC:20220716T220000
DTSTAMP:20260421T062214
CREATED:20220427T201455Z
LAST-MODIFIED:20220721T224104Z
UID:7618-1657998000-1658008800@bedlambarbq.com
SUMMARY:TANNER FIELDS #bedlamlivelocalbands
DESCRIPTION:
URL:https://bedlambarbq.com/event/shane-conway-and-brock-music-bedlamlivelocalbands/
END:VEVENT
BEGIN:VEVENT
DTSTART;TZID=UTC:20220723T190000
DTEND;TZID=UTC:20220723T220000
DTSTAMP:20260421T062214
CREATED:20220312T033954Z
LAST-MODIFIED:20220721T224037Z
UID:7133-1658602800-1658613600@bedlambarbq.com
SUMMARY:SHORTT DOGG #bedlamlivelocalbands
DESCRIPTION:
URL:https://bedlambarbq.com/event/short-dogg-bedlamlivelocalbands/
LOCATION:Bedlam BAR-B-Q\, 610 NE 50th Street\, Oklahoma City\, OK\, 73105
CATEGORIES:Bedlam Live Local Bands 7-10p.m.
END:VEVENT
BEGIN:VEVENT
DTSTART;TZID=UTC:20220730T190000
DTEND;TZID=UTC:20220730T220000
DTSTAMP:20260421T062214
CREATED:20220722T204521Z
LAST-MODIFIED:20220722T204530Z
UID:8436-1659207600-1659218400@bedlambarbq.com
SUMMARY:STAN CARRIER #bedlamlivelocalbands #country
DESCRIPTION:
URL:https://bedlambarbq.com/event/stan-carrier-bedlamlivelocalbands-country/
END:VEVENT
BEGIN:VEVENT
DTSTART;TZID=UTC:20220730T190000
DTEND;TZID=UTC:20220730T220000
DTSTAMP:20260421T062214
CREATED:20220730T184508Z
LAST-MODIFIED:20220722T204422Z
UID:7940-1659207600-1659218400@bedlambarbq.com
SUMMARY:STAN CARRIER #bedlamlivelocalbands #country
DESCRIPTION:
URL:https://bedlambarbq.com/event/stan-carrier-bedlamlivelocalbands/
END:VEVENT
END:VCALENDAR