BEGIN:VCALENDAR
VERSION:2.0
PRODID:-//Bedlam BBQ - ECPv6.15.20//NONSGML v1.0//EN
CALSCALE:GREGORIAN
METHOD:PUBLISH
X-ORIGINAL-URL:https://bedlambarbq.com
X-WR-CALDESC:Events for Bedlam BBQ
REFRESH-INTERVAL;VALUE=DURATION:PT1H
X-Robots-Tag:noindex
X-PUBLISHED-TTL:PT1H
BEGIN:VTIMEZONE
TZID:UTC
BEGIN:STANDARD
TZOFFSETFROM:+0000
TZOFFSETTO:+0000
TZNAME:UTC
DTSTART:20210101T000000
END:STANDARD
END:VTIMEZONE
BEGIN:VEVENT
DTSTART;TZID=UTC:20220806T200000
DTEND;TZID=UTC:20220806T220000
DTSTAMP:20260421T033757
CREATED:20220521T184807Z
LAST-MODIFIED:20220727T191048Z
UID:7942-1659816000-1659823200@bedlambarbq.com
SUMMARY:AUSTIN DUPLANTIS #bedlamlivelocalbands
DESCRIPTION:
URL:https://bedlambarbq.com/event/hank-garrett-bedlamlivelocalbands-3/
END:VEVENT
BEGIN:VEVENT
DTSTART;TZID=UTC:20220813T190000
DTEND;TZID=UTC:20220813T220000
DTSTAMP:20260421T033757
CREATED:20220521T185251Z
LAST-MODIFIED:20220904T002844Z
UID:7949-1660417200-1660428000@bedlambarbq.com
SUMMARY:TOUCH OF GROOVE#bedlamlivelocalbands
DESCRIPTION:
URL:https://bedlambarbq.com/event/bedlamlivelocalbands-6/
END:VEVENT
BEGIN:VEVENT
DTSTART;TZID=UTC:20220820T190000
DTEND;TZID=UTC:20220820T220000
DTSTAMP:20260421T033757
CREATED:20220521T185200Z
LAST-MODIFIED:20220521T185200Z
UID:7947-1661022000-1661032800@bedlambarbq.com
SUMMARY:JANE MAYES #bedlamlivelocalbands
DESCRIPTION:
URL:https://bedlambarbq.com/event/jane-mayes-bedlamlivelocalbands/
END:VEVENT
BEGIN:VEVENT
DTSTART;TZID=UTC:20220827T190000
DTEND;TZID=UTC:20220827T220000
DTSTAMP:20260421T033757
CREATED:20220721T224301Z
LAST-MODIFIED:20220721T224301Z
UID:8391-1661626800-1661637600@bedlambarbq.com
SUMMARY:TAYLOR ATKINSON #bedlamlivelocalbands
DESCRIPTION:
URL:https://bedlambarbq.com/event/taylor-atkinson-bedlamlivelocalbands-2/
END:VEVENT
END:VCALENDAR