BEGIN:VCALENDAR
VERSION:2.0
PRODID:-//Bedlam BBQ - ECPv6.15.20//NONSGML v1.0//EN
CALSCALE:GREGORIAN
METHOD:PUBLISH
X-WR-CALNAME:Bedlam BBQ
X-ORIGINAL-URL:https://bedlambarbq.com
X-WR-CALDESC:Events for Bedlam BBQ
REFRESH-INTERVAL;VALUE=DURATION:PT1H
X-Robots-Tag:noindex
X-PUBLISHED-TTL:PT1H
BEGIN:VTIMEZONE
TZID:UTC
BEGIN:STANDARD
TZOFFSETFROM:+0000
TZOFFSETTO:+0000
TZNAME:UTC
DTSTART:20210101T000000
END:STANDARD
END:VTIMEZONE
BEGIN:VEVENT
DTSTART;TZID=UTC:20221203T190000
DTEND;TZID=UTC:20221203T220000
DTSTAMP:20260421T053107
CREATED:20221102T222921Z
LAST-MODIFIED:20221102T222948Z
UID:8454-1670094000-1670104800@bedlambarbq.com
SUMMARY:AARON NEWMAN#bedlamlivelocalbands
DESCRIPTION:
URL:https://bedlambarbq.com/event/aaron-newmanbedlamlivelocalbands/
END:VEVENT
BEGIN:VEVENT
DTSTART;TZID=UTC:20221210T190000
DTEND;TZID=UTC:20221210T220000
DTSTAMP:20260421T053107
CREATED:20221102T223042Z
LAST-MODIFIED:20221102T223042Z
UID:8457-1670698800-1670709600@bedlambarbq.com
SUMMARY:#bedlamlivelocalbands
DESCRIPTION:
URL:https://bedlambarbq.com/event/bedlamlivelocalbands-14/
END:VEVENT
BEGIN:VEVENT
DTSTART;TZID=UTC:20221217T190000
DTEND;TZID=UTC:20221217T220000
DTSTAMP:20260421T053107
CREATED:20221102T223125Z
LAST-MODIFIED:20221102T223125Z
UID:8459-1671303600-1671314400@bedlambarbq.com
SUMMARY:BRANTLEY COWAN#bedlamlivelocalbands
DESCRIPTION:
URL:https://bedlambarbq.com/event/brantley-cowanbedlamlivelocalbands-2/
END:VEVENT
BEGIN:VEVENT
DTSTART;TZID=UTC:20221224T190000
DTEND;TZID=UTC:20221224T190000
DTSTAMP:20260421T053107
CREATED:20221102T223237Z
LAST-MODIFIED:20221102T223237Z
UID:8461-1671908400-1671908400@bedlambarbq.com
SUMMARY:CLOSE AT 5PM NO BAND#bedlamlivelocalbands
DESCRIPTION:
URL:https://bedlambarbq.com/event/close-at-5pm-no-bandbedlamlivelocalbands/
END:VEVENT
BEGIN:VEVENT
DTSTART;TZID=UTC:20221231T190000
DTEND;TZID=UTC:20221231T223000
DTSTAMP:20260421T053107
CREATED:20221102T223353Z
LAST-MODIFIED:20221102T223353Z
UID:8463-1672513200-1672525800@bedlambarbq.com
SUMMARY:NEW YEARS CELEBRATION#bedlalmlivelocalbands
DESCRIPTION:
URL:https://bedlambarbq.com/event/new-years-celebrationbedlalmlivelocalbands/
END:VEVENT
END:VCALENDAR