BEGIN:VCALENDAR
VERSION:2.0
PRODID:-//Bedlam BBQ - ECPv6.15.20//NONSGML v1.0//EN
CALSCALE:GREGORIAN
METHOD:PUBLISH
X-ORIGINAL-URL:https://bedlambarbq.com
X-WR-CALDESC:Events for Bedlam BBQ
REFRESH-INTERVAL;VALUE=DURATION:PT1H
X-Robots-Tag:noindex
X-PUBLISHED-TTL:PT1H
BEGIN:VTIMEZONE
TZID:America/New_York
BEGIN:DAYLIGHT
TZOFFSETFROM:-0500
TZOFFSETTO:-0400
TZNAME:EDT
DTSTART:20220313T070000
END:DAYLIGHT
BEGIN:STANDARD
TZOFFSETFROM:-0400
TZOFFSETTO:-0500
TZNAME:EST
DTSTART:20221106T060000
END:STANDARD
BEGIN:DAYLIGHT
TZOFFSETFROM:-0500
TZOFFSETTO:-0400
TZNAME:EDT
DTSTART:20230312T070000
END:DAYLIGHT
BEGIN:STANDARD
TZOFFSETFROM:-0400
TZOFFSETTO:-0500
TZNAME:EST
DTSTART:20231105T060000
END:STANDARD
BEGIN:DAYLIGHT
TZOFFSETFROM:-0500
TZOFFSETTO:-0400
TZNAME:EDT
DTSTART:20240310T070000
END:DAYLIGHT
BEGIN:STANDARD
TZOFFSETFROM:-0400
TZOFFSETTO:-0500
TZNAME:EST
DTSTART:20241103T060000
END:STANDARD
END:VTIMEZONE
BEGIN:VEVENT
DTSTART;TZID=America/New_York:20230801T190000
DTEND;TZID=America/New_York:20230801T210000
DTSTAMP:20260420T120702
CREATED:20230705T222031Z
LAST-MODIFIED:20230705T222031Z
UID:8631-1690916400-1690923600@bedlambarbq.com
SUMMARY:Bingo Night
DESCRIPTION:
URL:https://bedlambarbq.com/event/bingo-night-13/
CATEGORIES:Bedlam Bingo
END:VEVENT
BEGIN:VEVENT
DTSTART;TZID=America/New_York:20230804T190000
DTEND;TZID=America/New_York:20230804T220000
DTSTAMP:20260420T120702
CREATED:20230706T005019Z
LAST-MODIFIED:20230706T005019Z
UID:8662-1691175600-1691186400@bedlambarbq.com
SUMMARY:Hank Garrett
DESCRIPTION:
URL:https://bedlambarbq.com/event/hank-garrett/
CATEGORIES:Bedlam Live Local Bands 7-10p.m.
END:VEVENT
BEGIN:VEVENT
DTSTART;TZID=America/New_York:20230805T190000
DTEND;TZID=America/New_York:20230805T220000
DTSTAMP:20260420T120702
CREATED:20230705T221624Z
LAST-MODIFIED:20230705T221624Z
UID:8623-1691262000-1691272800@bedlambarbq.com
SUMMARY:McCaleb Stewart
DESCRIPTION:
URL:https://bedlambarbq.com/event/mccaleb-stewart/
CATEGORIES:Bedlam Live Local Bands 7-10p.m.
END:VEVENT
BEGIN:VEVENT
DTSTART;TZID=America/New_York:20230808T190000
DTEND;TZID=America/New_York:20230808T210000
DTSTAMP:20260420T120702
CREATED:20230705T222140Z
LAST-MODIFIED:20230705T222140Z
UID:8633-1691521200-1691528400@bedlambarbq.com
SUMMARY:Bingo Night
DESCRIPTION:
URL:https://bedlambarbq.com/event/bingo-night-14/
CATEGORIES:Bedlam Bingo
END:VEVENT
BEGIN:VEVENT
DTSTART;TZID=America/New_York:20230812T190000
DTEND;TZID=America/New_York:20230812T220000
DTSTAMP:20260420T120702
CREATED:20230705T221736Z
LAST-MODIFIED:20230705T221736Z
UID:8625-1691866800-1691877600@bedlambarbq.com
SUMMARY:Rocky Kanaga Duo
DESCRIPTION:
URL:https://bedlambarbq.com/event/rocky-kanaga-duo/
CATEGORIES:Bedlam Live Local Bands 7-10p.m.
END:VEVENT
BEGIN:VEVENT
DTSTART;TZID=America/New_York:20230815T190000
DTEND;TZID=America/New_York:20230815T210000
DTSTAMP:20260420T120702
CREATED:20230705T222237Z
LAST-MODIFIED:20230705T222237Z
UID:8635-1692126000-1692133200@bedlambarbq.com
SUMMARY:Bingo Night
DESCRIPTION:
URL:https://bedlambarbq.com/event/bingo-night-15/
CATEGORIES:Bedlam Bingo
END:VEVENT
BEGIN:VEVENT
DTSTART;TZID=America/New_York:20230819T190000
DTEND;TZID=America/New_York:20230819T220000
DTSTAMP:20260420T120702
CREATED:20230705T221815Z
LAST-MODIFIED:20230705T221815Z
UID:8627-1692471600-1692482400@bedlambarbq.com
SUMMARY:Buffalo Family
DESCRIPTION:
URL:https://bedlambarbq.com/event/buffalo-family/
CATEGORIES:Bedlam Live Local Bands 7-10p.m.
END:VEVENT
BEGIN:VEVENT
DTSTART;TZID=America/New_York:20230822T190000
DTEND;TZID=America/New_York:20230822T210000
DTSTAMP:20260420T120702
CREATED:20230705T222353Z
LAST-MODIFIED:20230705T222353Z
UID:8637-1692730800-1692738000@bedlambarbq.com
SUMMARY:Bingo Night
DESCRIPTION:
URL:https://bedlambarbq.com/event/bingo-night-16/
CATEGORIES:Bedlam Bingo
END:VEVENT
BEGIN:VEVENT
DTSTART;TZID=America/New_York:20230826T190000
DTEND;TZID=America/New_York:20230826T220000
DTSTAMP:20260420T120702
CREATED:20230705T221849Z
LAST-MODIFIED:20230705T221849Z
UID:8629-1693076400-1693087200@bedlambarbq.com
SUMMARY:Simple Souls
DESCRIPTION:
URL:https://bedlambarbq.com/event/simple-souls/
CATEGORIES:Bedlam Live Local Bands 7-10p.m.
END:VEVENT
BEGIN:VEVENT
DTSTART;TZID=America/New_York:20230829T190000
DTEND;TZID=America/New_York:20230829T210000
DTSTAMP:20260420T120702
CREATED:20230705T222443Z
LAST-MODIFIED:20230705T222443Z
UID:8639-1693335600-1693342800@bedlambarbq.com
SUMMARY:Bingo Night
DESCRIPTION:
URL:https://bedlambarbq.com/event/bingo-night-17/
CATEGORIES:Bedlam Bingo
END:VEVENT
END:VCALENDAR