BEGIN:VCALENDAR
VERSION:2.0
PRODID:-//Bedlam BBQ - ECPv6.15.20//NONSGML v1.0//EN
CALSCALE:GREGORIAN
METHOD:PUBLISH
X-ORIGINAL-URL:https://bedlambarbq.com
X-WR-CALDESC:Events for Bedlam BBQ
REFRESH-INTERVAL;VALUE=DURATION:PT1H
X-Robots-Tag:noindex
X-PUBLISHED-TTL:PT1H
BEGIN:VTIMEZONE
TZID:America/New_York
BEGIN:DAYLIGHT
TZOFFSETFROM:-0500
TZOFFSETTO:-0400
TZNAME:EDT
DTSTART:20220313T070000
END:DAYLIGHT
BEGIN:STANDARD
TZOFFSETFROM:-0400
TZOFFSETTO:-0500
TZNAME:EST
DTSTART:20221106T060000
END:STANDARD
BEGIN:DAYLIGHT
TZOFFSETFROM:-0500
TZOFFSETTO:-0400
TZNAME:EDT
DTSTART:20230312T070000
END:DAYLIGHT
BEGIN:STANDARD
TZOFFSETFROM:-0400
TZOFFSETTO:-0500
TZNAME:EST
DTSTART:20231105T060000
END:STANDARD
BEGIN:DAYLIGHT
TZOFFSETFROM:-0500
TZOFFSETTO:-0400
TZNAME:EDT
DTSTART:20240310T070000
END:DAYLIGHT
BEGIN:STANDARD
TZOFFSETFROM:-0400
TZOFFSETTO:-0500
TZNAME:EST
DTSTART:20241103T060000
END:STANDARD
END:VTIMEZONE
BEGIN:VEVENT
DTSTART;TZID=America/New_York:20231202T190000
DTEND;TZID=America/New_York:20231202T220000
DTSTAMP:20260420T071801
CREATED:20230906T005046Z
LAST-MODIFIED:20230906T005046Z
UID:8676-1701543600-1701554400@bedlambarbq.com
SUMMARY:Taylor Atkinson
DESCRIPTION:
URL:https://bedlambarbq.com/event/taylor-atkinson-2/
CATEGORIES:Bedlam Live Local Bands 7-10p.m.
END:VEVENT
BEGIN:VEVENT
DTSTART;TZID=America/New_York:20231209T190000
DTEND;TZID=America/New_York:20231209T220000
DTSTAMP:20260420T071801
CREATED:20230906T005144Z
LAST-MODIFIED:20230906T005144Z
UID:8678-1702148400-1702159200@bedlambarbq.com
SUMMARY:Brantley Cowan & Luke Hall
DESCRIPTION:
URL:https://bedlambarbq.com/event/brantley-cowan-luke-hall/
CATEGORIES:Bedlam Live Local Bands 7-10p.m.
END:VEVENT
BEGIN:VEVENT
DTSTART;TZID=America/New_York:20231216T190000
DTEND;TZID=America/New_York:20231216T220000
DTSTAMP:20260420T071801
CREATED:20231117T092729Z
LAST-MODIFIED:20231201T011412Z
UID:8682-1702753200-1702764000@bedlambarbq.com
SUMMARY:Brent Krueger
DESCRIPTION:
URL:https://bedlambarbq.com/event/bedlam-live-local-music/
CATEGORIES:Bedlam Live Local Bands 7-10p.m.
END:VEVENT
BEGIN:VEVENT
DTSTART;TZID=America/New_York:20231223T190000
DTEND;TZID=America/New_York:20231223T220000
DTSTAMP:20260420T071801
CREATED:20231117T092830Z
LAST-MODIFIED:20231117T092830Z
UID:8684-1703358000-1703368800@bedlambarbq.com
SUMMARY:Bruce Benson
DESCRIPTION:
URL:https://bedlambarbq.com/event/bruce-benson-2/
CATEGORIES:Bedlam Live Local Bands 7-10p.m.
END:VEVENT
BEGIN:VEVENT
DTSTART;VALUE=DATE:20231224
DTEND;VALUE=DATE:20231225
DTSTAMP:20260420T071801
CREATED:20231117T093939Z
LAST-MODIFIED:20231117T093939Z
UID:8696-1703376000-1703462399@bedlambarbq.com
SUMMARY:Christmas Eve
DESCRIPTION:
URL:https://bedlambarbq.com/event/christmas-eve/
END:VEVENT
BEGIN:VEVENT
DTSTART;VALUE=DATE:20231225
DTEND;VALUE=DATE:20231226
DTSTAMP:20260420T071801
CREATED:20231117T094019Z
LAST-MODIFIED:20231117T094019Z
UID:8698-1703462400-1703548799@bedlambarbq.com
SUMMARY:Merry Christmas! CLOSED
DESCRIPTION:
URL:https://bedlambarbq.com/event/merry-christmas-closed/
END:VEVENT
BEGIN:VEVENT
DTSTART;VALUE=DATE:20231226
DTEND;VALUE=DATE:20231227
DTSTAMP:20260420T071801
CREATED:20231117T094055Z
LAST-MODIFIED:20231117T094055Z
UID:8700-1703548800-1703635199@bedlambarbq.com
SUMMARY:CLOSED
DESCRIPTION:
URL:https://bedlambarbq.com/event/closed/
END:VEVENT
BEGIN:VEVENT
DTSTART;TZID=America/New_York:20231229T190000
DTEND;TZID=America/New_York:20231229T220000
DTSTAMP:20260420T071801
CREATED:20231117T092916Z
LAST-MODIFIED:20231117T092916Z
UID:8686-1703876400-1703887200@bedlambarbq.com
SUMMARY:Edgar Cruz
DESCRIPTION:
URL:https://bedlambarbq.com/event/edgar-cruz/
CATEGORIES:Bedlam Live Local Bands 7-10p.m.
END:VEVENT
BEGIN:VEVENT
DTSTART;TZID=America/New_York:20231230T190000
DTEND;TZID=America/New_York:20231230T220000
DTSTAMP:20260420T071801
CREATED:20231117T093538Z
LAST-MODIFIED:20231117T093538Z
UID:8692-1703962800-1703973600@bedlambarbq.com
SUMMARY:Buffalo Family
DESCRIPTION:
URL:https://bedlambarbq.com/event/buffalo-family-3/
CATEGORIES:Bedlam Live Local Bands 7-10p.m.
END:VEVENT
END:VCALENDAR