BEGIN:VCALENDAR
VERSION:2.0
PRODID:-//Bedlam BBQ - ECPv6.15.20//NONSGML v1.0//EN
CALSCALE:GREGORIAN
METHOD:PUBLISH
X-ORIGINAL-URL:https://bedlambarbq.com
X-WR-CALDESC:Events for Bedlam BBQ
REFRESH-INTERVAL;VALUE=DURATION:PT1H
X-Robots-Tag:noindex
X-PUBLISHED-TTL:PT1H
BEGIN:VTIMEZONE
TZID:America/New_York
BEGIN:DAYLIGHT
TZOFFSETFROM:-0500
TZOFFSETTO:-0400
TZNAME:EDT
DTSTART:20230312T070000
END:DAYLIGHT
BEGIN:STANDARD
TZOFFSETFROM:-0400
TZOFFSETTO:-0500
TZNAME:EST
DTSTART:20231105T060000
END:STANDARD
BEGIN:DAYLIGHT
TZOFFSETFROM:-0500
TZOFFSETTO:-0400
TZNAME:EDT
DTSTART:20240310T070000
END:DAYLIGHT
BEGIN:STANDARD
TZOFFSETFROM:-0400
TZOFFSETTO:-0500
TZNAME:EST
DTSTART:20241103T060000
END:STANDARD
BEGIN:DAYLIGHT
TZOFFSETFROM:-0500
TZOFFSETTO:-0400
TZNAME:EDT
DTSTART:20250309T070000
END:DAYLIGHT
BEGIN:STANDARD
TZOFFSETFROM:-0400
TZOFFSETTO:-0500
TZNAME:EST
DTSTART:20251102T060000
END:STANDARD
END:VTIMEZONE
BEGIN:VEVENT
DTSTART;TZID=America/New_York:20240803T190000
DTEND;TZID=America/New_York:20240803T220000
DTSTAMP:20260419T202036
CREATED:20240523T184015Z
LAST-MODIFIED:20240523T184015Z
UID:8798-1722711600-1722722400@bedlambarbq.com
SUMMARY:Jane Mays
DESCRIPTION:
URL:https://bedlambarbq.com/event/jane-mays-3/
END:VEVENT
BEGIN:VEVENT
DTSTART;TZID=America/New_York:20240810T190000
DTEND;TZID=America/New_York:20240810T220000
DTSTAMP:20260419T202036
CREATED:20240523T184103Z
LAST-MODIFIED:20240523T184103Z
UID:8800-1723316400-1723327200@bedlambarbq.com
SUMMARY:Bruce Benson
DESCRIPTION:
URL:https://bedlambarbq.com/event/bruce-benson-5/
END:VEVENT
BEGIN:VEVENT
DTSTART;TZID=America/New_York:20240817T190000
DTEND;TZID=America/New_York:20240817T220000
DTSTAMP:20260419T202036
CREATED:20240523T184205Z
LAST-MODIFIED:20240523T184205Z
UID:8802-1723921200-1723932000@bedlambarbq.com
SUMMARY:Rocky Kanaga Duo
DESCRIPTION:
URL:https://bedlambarbq.com/event/rocky-kanaga-duo-2/
END:VEVENT
BEGIN:VEVENT
DTSTART;TZID=America/New_York:20240824T190000
DTEND;TZID=America/New_York:20240824T220000
DTSTAMP:20260419T202036
CREATED:20240921T190250Z
LAST-MODIFIED:20240921T190250Z
UID:8831-1724526000-1724536800@bedlambarbq.com
SUMMARY:McCaleb Stewart and Parker Caskey
DESCRIPTION:
URL:https://bedlambarbq.com/event/mccaleb-stewart-and-parker-caskey/
END:VEVENT
BEGIN:VEVENT
DTSTART;TZID=America/New_York:20240831T190000
DTEND;TZID=America/New_York:20240831T220000
DTSTAMP:20260419T202036
CREATED:20240921T190142Z
LAST-MODIFIED:20240921T190142Z
UID:8829-1725130800-1725141600@bedlambarbq.com
SUMMARY:Brent Krueger and Harold Bear
DESCRIPTION:
URL:https://bedlambarbq.com/event/brent-krueger-and-harold-bear/
END:VEVENT
END:VCALENDAR