BEGIN:VCALENDAR
VERSION:2.0
PRODID:-//Bedlam BBQ - ECPv6.15.20//NONSGML v1.0//EN
CALSCALE:GREGORIAN
METHOD:PUBLISH
X-WR-CALNAME:Bedlam BBQ
X-ORIGINAL-URL:https://bedlambarbq.com
X-WR-CALDESC:Events for Bedlam BBQ
REFRESH-INTERVAL;VALUE=DURATION:PT1H
X-Robots-Tag:noindex
X-PUBLISHED-TTL:PT1H
BEGIN:VTIMEZONE
TZID:America/Chicago
BEGIN:DAYLIGHT
TZOFFSETFROM:-0600
TZOFFSETTO:-0500
TZNAME:CDT
DTSTART:20240310T080000
END:DAYLIGHT
BEGIN:STANDARD
TZOFFSETFROM:-0500
TZOFFSETTO:-0600
TZNAME:CST
DTSTART:20241103T070000
END:STANDARD
BEGIN:DAYLIGHT
TZOFFSETFROM:-0600
TZOFFSETTO:-0500
TZNAME:CDT
DTSTART:20250309T080000
END:DAYLIGHT
BEGIN:STANDARD
TZOFFSETFROM:-0500
TZOFFSETTO:-0600
TZNAME:CST
DTSTART:20251102T070000
END:STANDARD
BEGIN:DAYLIGHT
TZOFFSETFROM:-0600
TZOFFSETTO:-0500
TZNAME:CDT
DTSTART:20260308T080000
END:DAYLIGHT
BEGIN:STANDARD
TZOFFSETFROM:-0500
TZOFFSETTO:-0600
TZNAME:CST
DTSTART:20261101T070000
END:STANDARD
END:VTIMEZONE
BEGIN:VTIMEZONE
TZID:America/New_York
BEGIN:DAYLIGHT
TZOFFSETFROM:-0500
TZOFFSETTO:-0400
TZNAME:EDT
DTSTART:20240310T070000
END:DAYLIGHT
BEGIN:STANDARD
TZOFFSETFROM:-0400
TZOFFSETTO:-0500
TZNAME:EST
DTSTART:20241103T060000
END:STANDARD
BEGIN:DAYLIGHT
TZOFFSETFROM:-0500
TZOFFSETTO:-0400
TZNAME:EDT
DTSTART:20250309T070000
END:DAYLIGHT
BEGIN:STANDARD
TZOFFSETFROM:-0400
TZOFFSETTO:-0500
TZNAME:EST
DTSTART:20251102T060000
END:STANDARD
BEGIN:DAYLIGHT
TZOFFSETFROM:-0500
TZOFFSETTO:-0400
TZNAME:EDT
DTSTART:20260308T070000
END:DAYLIGHT
BEGIN:STANDARD
TZOFFSETFROM:-0400
TZOFFSETTO:-0500
TZNAME:EST
DTSTART:20261101T060000
END:STANDARD
END:VTIMEZONE
BEGIN:VEVENT
DTSTART;TZID=America/Chicago:20250704T080000
DTEND;TZID=America/Chicago:20250704T170000
DTSTAMP:20260419T182557
CREATED:20250707T210140Z
LAST-MODIFIED:20250707T210140Z
UID:9073-1751616000-1751648400@bedlambarbq.com
SUMMARY:HAPPY FOURTH OF JULY! WE ARE CLOSED IN HONOR OF THE 4th.
DESCRIPTION:
URL:https://bedlambarbq.com/event/happy-fourth-of-july-we-are-closed-in-honor-of-the-4th/
END:VEVENT
BEGIN:VEVENT
DTSTART;TZID=America/New_York:20250705T190000
DTEND;TZID=America/New_York:20250705T220000
DTSTAMP:20260419T182557
CREATED:20250213T213215Z
LAST-MODIFIED:20250707T205942Z
UID:8977-1751742000-1751752800@bedlambarbq.com
SUMMARY:PAST FORWARD BAND
DESCRIPTION:
URL:https://bedlambarbq.com/event/bedlam-live-local-bands-40/
END:VEVENT
BEGIN:VEVENT
DTSTART;TZID=America/Chicago:20250708T190000
DTEND;TZID=America/Chicago:20250708T210000
DTSTAMP:20260419T182557
CREATED:20250707T205156Z
LAST-MODIFIED:20250707T205156Z
UID:9051-1752001200-1752008400@bedlambarbq.com
SUMMARY:BINGO NIGHT
DESCRIPTION:FREE TO PLAY FREE PRIZES. CALL AND SCHEDULE YOUR NEIGHBORHOOD\, ORGANIZATION OR FAMILY EVENT!
URL:https://bedlambarbq.com/event/bingo-night-18/
END:VEVENT
BEGIN:VEVENT
DTSTART;TZID=America/New_York:20250712T190000
DTEND;TZID=America/New_York:20250712T220000
DTSTAMP:20260419T182557
CREATED:20250213T213256Z
LAST-MODIFIED:20250213T213256Z
UID:8979-1752346800-1752357600@bedlambarbq.com
SUMMARY:JANE MAYS
DESCRIPTION:
URL:https://bedlambarbq.com/event/jane-mays-6/
END:VEVENT
BEGIN:VEVENT
DTSTART;TZID=America/Chicago:20250715T190000
DTEND;TZID=America/Chicago:20250715T210000
DTSTAMP:20260419T182557
CREATED:20250707T205324Z
LAST-MODIFIED:20250715T213921Z
UID:9053-1752606000-1752613200@bedlambarbq.com
SUMMARY:BINGO NIGHT
DESCRIPTION:FREE TO PLAY FREE PRIZES. CALL TO SCHEDULE YOUR NEIGHBORHOOD\, COMPANY\, ORGANIZATION OR FAMILY EVENT NOW!
URL:https://bedlambarbq.com/event/bingo-night-19/
END:VEVENT
BEGIN:VEVENT
DTSTART;TZID=America/New_York:20250719T190000
DTEND;TZID=America/New_York:20250719T220000
DTSTAMP:20260419T182557
CREATED:20250213T213328Z
LAST-MODIFIED:20250707T204600Z
UID:8981-1752951600-1752962400@bedlambarbq.com
SUMMARY:MCCALEB STEWART
DESCRIPTION:
URL:https://bedlambarbq.com/event/simple-souls-7/
END:VEVENT
BEGIN:VEVENT
DTSTART;TZID=America/Chicago:20250722T190000
DTEND;TZID=America/Chicago:20250722T210000
DTSTAMP:20260419T182557
CREATED:20250707T205411Z
LAST-MODIFIED:20250707T205411Z
UID:9055-1753210800-1753218000@bedlambarbq.com
SUMMARY:BINGO NIGHT
DESCRIPTION:FREE TO PLAY FREE PRIZES. CALL TO SCHEDULE YOUR NEIGHBORHOOD\, COMPANY\, ORGANIZATION OR FAMILY EVENT NOW!
URL:https://bedlambarbq.com/event/bingo-night-20/
END:VEVENT
BEGIN:VEVENT
DTSTART;TZID=America/New_York:20250726T190000
DTEND;TZID=America/New_York:20250726T220000
DTSTAMP:20260419T182557
CREATED:20250213T213402Z
LAST-MODIFIED:20250707T204631Z
UID:8983-1753556400-1753567200@bedlambarbq.com
SUMMARY:BRANTLEY COWAN
DESCRIPTION:
URL:https://bedlambarbq.com/event/bedlam-live-local-bands-41/
END:VEVENT
BEGIN:VEVENT
DTSTART;TZID=America/Chicago:20250729T190000
DTEND;TZID=America/Chicago:20250729T210000
DTSTAMP:20260419T182557
CREATED:20250707T205454Z
LAST-MODIFIED:20250707T205454Z
UID:9057-1753815600-1753822800@bedlambarbq.com
SUMMARY:BINGO NIGHT
DESCRIPTION:FREE TO PLAY FREE PRIZES. CALL TO SCHEDULE YOUR NEIGHBORHOOD\, COMPANY\, ORGANIZATION OR FAMILY EVENT NOW!
URL:https://bedlambarbq.com/event/bingo-night-21/
END:VEVENT
END:VCALENDAR