BEGIN:VCALENDAR
VERSION:2.0
PRODID:-//Bedlam BBQ - ECPv6.15.20//NONSGML v1.0//EN
CALSCALE:GREGORIAN
METHOD:PUBLISH
X-WR-CALNAME:Bedlam BBQ
X-ORIGINAL-URL:https://bedlambarbq.com
X-WR-CALDESC:Events for Bedlam BBQ
REFRESH-INTERVAL;VALUE=DURATION:PT1H
X-Robots-Tag:noindex
X-PUBLISHED-TTL:PT1H
BEGIN:VTIMEZONE
TZID:America/Chicago
BEGIN:DAYLIGHT
TZOFFSETFROM:-0600
TZOFFSETTO:-0500
TZNAME:CDT
DTSTART:20250309T080000
END:DAYLIGHT
BEGIN:STANDARD
TZOFFSETFROM:-0500
TZOFFSETTO:-0600
TZNAME:CST
DTSTART:20251102T070000
END:STANDARD
BEGIN:DAYLIGHT
TZOFFSETFROM:-0600
TZOFFSETTO:-0500
TZNAME:CDT
DTSTART:20260308T080000
END:DAYLIGHT
BEGIN:STANDARD
TZOFFSETFROM:-0500
TZOFFSETTO:-0600
TZNAME:CST
DTSTART:20261101T070000
END:STANDARD
BEGIN:DAYLIGHT
TZOFFSETFROM:-0600
TZOFFSETTO:-0500
TZNAME:CDT
DTSTART:20270314T080000
END:DAYLIGHT
BEGIN:STANDARD
TZOFFSETFROM:-0500
TZOFFSETTO:-0600
TZNAME:CST
DTSTART:20271107T070000
END:STANDARD
END:VTIMEZONE
BEGIN:VEVENT
DTSTART;TZID=America/Chicago:20260303T190000
DTEND;TZID=America/Chicago:20260303T210000
DTSTAMP:20260419T091739
CREATED:20260205T230332Z
LAST-MODIFIED:20260205T230332Z
UID:9417-1772564400-1772571600@bedlambarbq.com
SUMMARY:GAME NIGHT!
DESCRIPTION:
URL:https://bedlambarbq.com/event/game-night-13/
END:VEVENT
BEGIN:VEVENT
DTSTART;TZID=America/Chicago:20260307T190000
DTEND;TZID=America/Chicago:20260307T220000
DTSTAMP:20260419T091739
CREATED:20260205T195626Z
LAST-MODIFIED:20260205T231017Z
UID:9342-1772910000-1772920800@bedlambarbq.com
SUMMARY:TAYLOR ATKINSON
DESCRIPTION:
URL:https://bedlambarbq.com/event/brent-krueger/
END:VEVENT
BEGIN:VEVENT
DTSTART;TZID=America/Chicago:20260310T190000
DTEND;TZID=America/Chicago:20260310T210000
DTSTAMP:20260419T091739
CREATED:20260205T225842Z
LAST-MODIFIED:20260205T225842Z
UID:9405-1773169200-1773176400@bedlambarbq.com
SUMMARY:GAME NIGHT! CARDS!
DESCRIPTION:
URL:https://bedlambarbq.com/event/game-night-cards/
END:VEVENT
BEGIN:VEVENT
DTSTART;TZID=America/Chicago:20260314T190000
DTEND;TZID=America/Chicago:20260314T220000
DTSTAMP:20260419T091739
CREATED:20260205T213243Z
LAST-MODIFIED:20260205T213256Z
UID:9392-1773514800-1773525600@bedlambarbq.com
SUMMARY:BRANTLEY COWAN
DESCRIPTION:
URL:https://bedlambarbq.com/event/brantley-cowan-10/
END:VEVENT
BEGIN:VEVENT
DTSTART;TZID=America/Chicago:20260317T190000
DTEND;TZID=America/Chicago:20260317T210000
DTSTAMP:20260419T091739
CREATED:20260205T225923Z
LAST-MODIFIED:20260205T225923Z
UID:9407-1773774000-1773781200@bedlambarbq.com
SUMMARY:GAME NIGHT!
DESCRIPTION:
URL:https://bedlambarbq.com/event/game-night-8/
END:VEVENT
BEGIN:VEVENT
DTSTART;TZID=America/Chicago:20260320T080000
DTEND;TZID=America/Chicago:20260320T170000
DTSTAMP:20260419T091739
CREATED:20260320T211459Z
LAST-MODIFIED:20260320T211459Z
UID:9486-1773993600-1774026000@bedlambarbq.com
SUMMARY:MARCH MADNESS
DESCRIPTION:
URL:https://bedlambarbq.com/event/march-madness/
END:VEVENT
BEGIN:VEVENT
DTSTART;TZID=America/Chicago:20260321T190000
DTEND;TZID=America/Chicago:20260321T220000
DTSTAMP:20260419T091739
CREATED:20260205T213416Z
LAST-MODIFIED:20260309T170849Z
UID:9394-1774119600-1774130400@bedlambarbq.com
SUMMARY:JANE MAYS BAND
DESCRIPTION:
URL:https://bedlambarbq.com/event/unlikely-blues-band-8/
END:VEVENT
BEGIN:VEVENT
DTSTART;TZID=America/Chicago:20260324T190000
DTEND;TZID=America/Chicago:20260324T210000
DTSTAMP:20260419T091739
CREATED:20260205T230002Z
LAST-MODIFIED:20260205T230002Z
UID:9409-1774378800-1774386000@bedlambarbq.com
SUMMARY:GAME NIGHT!
DESCRIPTION:
URL:https://bedlambarbq.com/event/game-night-9/
END:VEVENT
BEGIN:VEVENT
DTSTART;TZID=America/Chicago:20260328T190000
DTEND;TZID=America/Chicago:20260328T220000
DTSTAMP:20260419T091739
CREATED:20260205T195845Z
LAST-MODIFIED:20260309T170911Z
UID:9348-1774724400-1774735200@bedlambarbq.com
SUMMARY:RELATIVITY BAND
DESCRIPTION:
URL:https://bedlambarbq.com/event/jane-mays-band/
END:VEVENT
BEGIN:VEVENT
DTSTART;TZID=America/Chicago:20260331T190000
DTEND;TZID=America/Chicago:20260331T210000
DTSTAMP:20260419T091739
CREATED:20260205T230034Z
LAST-MODIFIED:20260205T230034Z
UID:9411-1774983600-1774990800@bedlambarbq.com
SUMMARY:GAME NIGHT
DESCRIPTION:
URL:https://bedlambarbq.com/event/game-night-10/
END:VEVENT
END:VCALENDAR