BEGIN:VCALENDAR
VERSION:2.0
PRODID:-//Bedlam BBQ - ECPv6.15.20//NONSGML v1.0//EN
CALSCALE:GREGORIAN
METHOD:PUBLISH
X-ORIGINAL-URL:https://bedlambarbq.com
X-WR-CALDESC:Events for Bedlam BBQ
REFRESH-INTERVAL;VALUE=DURATION:PT1H
X-Robots-Tag:noindex
X-PUBLISHED-TTL:PT1H
BEGIN:VTIMEZONE
TZID:America/Chicago
BEGIN:DAYLIGHT
TZOFFSETFROM:-0600
TZOFFSETTO:-0500
TZNAME:CDT
DTSTART:20250309T080000
END:DAYLIGHT
BEGIN:STANDARD
TZOFFSETFROM:-0500
TZOFFSETTO:-0600
TZNAME:CST
DTSTART:20251102T070000
END:STANDARD
BEGIN:DAYLIGHT
TZOFFSETFROM:-0600
TZOFFSETTO:-0500
TZNAME:CDT
DTSTART:20260308T080000
END:DAYLIGHT
BEGIN:STANDARD
TZOFFSETFROM:-0500
TZOFFSETTO:-0600
TZNAME:CST
DTSTART:20261101T070000
END:STANDARD
BEGIN:DAYLIGHT
TZOFFSETFROM:-0600
TZOFFSETTO:-0500
TZNAME:CDT
DTSTART:20270314T080000
END:DAYLIGHT
BEGIN:STANDARD
TZOFFSETFROM:-0500
TZOFFSETTO:-0600
TZNAME:CST
DTSTART:20271107T070000
END:STANDARD
END:VTIMEZONE
BEGIN:VEVENT
DTSTART;TZID=America/Chicago:20260501T190000
DTEND;TZID=America/Chicago:20260501T220000
DTSTAMP:20260419T091820
CREATED:20260416T141032Z
LAST-MODIFIED:20260416T141032Z
UID:9496-1777662000-1777672800@bedlambarbq.com
SUMMARY:UNLIKELY BLUES BAND
DESCRIPTION:
URL:https://bedlambarbq.com/event/unlikely-blues-band-10/
END:VEVENT
BEGIN:VEVENT
DTSTART;TZID=America/Chicago:20260502T190000
DTEND;TZID=America/Chicago:20260502T220000
DTSTAMP:20260419T091820
CREATED:20260205T200355Z
LAST-MODIFIED:20260205T202329Z
UID:9360-1777748400-1777759200@bedlambarbq.com
SUMMARY:PAST FORWARD BAND
DESCRIPTION:
URL:https://bedlambarbq.com/event/bedlam-live-local-bands-63/
END:VEVENT
BEGIN:VEVENT
DTSTART;TZID=America/Chicago:20260505T190000
DTEND;TZID=America/Chicago:20260505T210000
DTSTAMP:20260419T091820
CREATED:20260205T231553Z
LAST-MODIFIED:20260413T201115Z
UID:9427-1778007600-1778014800@bedlambarbq.com
SUMMARY:BINGO NIGHT
DESCRIPTION:
URL:https://bedlambarbq.com/event/game-night-16/
END:VEVENT
BEGIN:VEVENT
DTSTART;TZID=America/Chicago:20260509T190000
DTEND;TZID=America/Chicago:20260509T220000
DTSTAMP:20260419T091820
CREATED:20260205T200442Z
LAST-MODIFIED:20260316T205339Z
UID:9362-1778353200-1778364000@bedlambarbq.com
SUMMARY:JANE MAYS BAND
DESCRIPTION:
URL:https://bedlambarbq.com/event/bedlam-live-local-bands-64/
END:VEVENT
BEGIN:VEVENT
DTSTART;TZID=America/Chicago:20260512T190000
DTEND;TZID=America/Chicago:20260512T210000
DTSTAMP:20260419T091820
CREATED:20260205T231741Z
LAST-MODIFIED:20260205T231741Z
UID:9431-1778612400-1778619600@bedlambarbq.com
SUMMARY:BINGO NIGHT
DESCRIPTION:
URL:https://bedlambarbq.com/event/bingo-night-30/
END:VEVENT
BEGIN:VEVENT
DTSTART;TZID=America/Chicago:20260515T190000
DTEND;TZID=America/Chicago:20260515T220000
DTSTAMP:20260419T091820
CREATED:20260413T201003Z
LAST-MODIFIED:20260413T201349Z
UID:9492-1778871600-1778882400@bedlambarbq.com
SUMMARY:BRENT KRUEGER DUO
DESCRIPTION:
URL:https://bedlambarbq.com/event/brent-krueger-duo/
END:VEVENT
BEGIN:VEVENT
DTSTART;TZID=America/Chicago:20260516T190000
DTEND;TZID=America/Chicago:20260516T220000
DTSTAMP:20260419T091820
CREATED:20260205T200523Z
LAST-MODIFIED:20260316T205319Z
UID:9364-1778958000-1778968800@bedlambarbq.com
SUMMARY:BOYZ NIGHT OUT
DESCRIPTION:
URL:https://bedlambarbq.com/event/jane-mays-band-2/
END:VEVENT
BEGIN:VEVENT
DTSTART;TZID=America/Chicago:20260519T190000
DTEND;TZID=America/Chicago:20260519T210000
DTSTAMP:20260419T091820
CREATED:20260205T232014Z
LAST-MODIFIED:20260205T232014Z
UID:9433-1779217200-1779224400@bedlambarbq.com
SUMMARY:BINGO NIGHT
DESCRIPTION:
URL:https://bedlambarbq.com/event/bingo-night-31/
END:VEVENT
BEGIN:VEVENT
DTSTART;TZID=America/Chicago:20260523T190000
DTEND;TZID=America/Chicago:20260523T220000
DTSTAMP:20260419T091820
CREATED:20260205T200606Z
LAST-MODIFIED:20260205T200606Z
UID:9366-1779562800-1779573600@bedlambarbq.com
SUMMARY:BRUCE BENSON BAND
DESCRIPTION:
URL:https://bedlambarbq.com/event/bruce-benson-band-2/
END:VEVENT
BEGIN:VEVENT
DTSTART;TZID=America/Chicago:20260526T190000
DTEND;TZID=America/Chicago:20260526T210000
DTSTAMP:20260419T091820
CREATED:20260205T232107Z
LAST-MODIFIED:20260205T232107Z
UID:9435-1779822000-1779829200@bedlambarbq.com
SUMMARY:BINGO NIGHT
DESCRIPTION:
URL:https://bedlambarbq.com/event/bingo-night-32/
END:VEVENT
BEGIN:VEVENT
DTSTART;TZID=America/Chicago:20260530T190000
DTEND;TZID=America/Chicago:20260530T220000
DTSTAMP:20260419T091820
CREATED:20260205T202021Z
LAST-MODIFIED:20260205T202021Z
UID:9378-1780167600-1780178400@bedlambarbq.com
SUMMARY:KERRY WAYNE BAND
DESCRIPTION:
URL:https://bedlambarbq.com/event/kerry-wayne-band/
END:VEVENT
END:VCALENDAR